BEGIN:VCALENDAR
VERSION:2.0
PRODID:-//B&#039;s Bells &amp; Bootcamps - ECPv4.4.4//NONSGML v1.0//EN
CALSCALE:GREGORIAN
METHOD:PUBLISH
X-WR-CALNAME:B&#039;s Bells &amp; Bootcamps
X-ORIGINAL-URL:http://bsbells.com
X-WR-CALDESC:Events for B&#039;s Bells &amp; Bootcamps
BEGIN:VEVENT
DTSTART;TZID=UTC+0:20181002T060000
DTEND;TZID=UTC+0:20181002T070000
DTSTAMP:20260423T212039
CREATED:20151222T193714Z
LAST-MODIFIED:20151222T193714Z
UID:13523-1538460000-1538463600@bsbells.com
SUMMARY:Kettlebell Class
DESCRIPTION:
URL:http://bsbells.com/event/kettlebell-class-7-2018-10-02/
LOCATION:511 E Main Street\, Campbellsport\, WI\, 53010\, United States
END:VEVENT
BEGIN:VEVENT
DTSTART;TZID=UTC+0:20181002T060000
DTEND;TZID=UTC+0:20181002T070000
DTSTAMP:20260423T212039
CREATED:20151222T193921Z
LAST-MODIFIED:20151222T193921Z
UID:13525-1538460000-1538463600@bsbells.com
SUMMARY:Kettlebell Class
DESCRIPTION:
URL:http://bsbells.com/event/kettlebell-class-10-2018-10-02/
LOCATION:511 E Main Street\, Campbellsport\, WI\, 53010\, United States
END:VEVENT
BEGIN:VEVENT
DTSTART;TZID=UTC+0:20181002T070000
DTEND;TZID=UTC+0:20181002T080000
DTSTAMP:20260423T212039
CREATED:20151222T193803Z
LAST-MODIFIED:20151222T193803Z
UID:13524-1538463600-1538467200@bsbells.com
SUMMARY:Kettlebell Class
DESCRIPTION:
URL:http://bsbells.com/event/kettlebell-class-8-2018-10-02/
LOCATION:511 E Main Street\, Campbellsport\, WI\, 53010\, United States
END:VEVENT
BEGIN:VEVENT
DTSTART;TZID=UTC+0:20181002T160000
DTEND;TZID=UTC+0:20181002T170000
DTSTAMP:20260423T212039
CREATED:20151222T194120Z
LAST-MODIFIED:20151222T194120Z
UID:13522-1538496000-1538499600@bsbells.com
SUMMARY:Kettlebell Class
DESCRIPTION:
URL:http://bsbells.com/event/kettlebell-class-12-2018-10-02/
LOCATION:511 E Main Street\, Campbellsport\, WI\, 53010\, United States
END:VEVENT
BEGIN:VEVENT
DTSTART;TZID=UTC+0:20181002T170000
DTEND;TZID=UTC+0:20181002T180000
DTSTAMP:20260423T212039
CREATED:20151222T193537Z
LAST-MODIFIED:20151222T193537Z
UID:13521-1538499600-1538503200@bsbells.com
SUMMARY:Kettlebell Class
DESCRIPTION:
URL:http://bsbells.com/event/kettlebell-class-6-2018-10-02/
LOCATION:511 E Main Street\, Campbellsport\, WI\, 53010\, United States
END:VEVENT
END:VCALENDAR