BEGIN:VCALENDAR
VERSION:2.0
PRODID:-//B&#039;s Bells &amp; Bootcamps - ECPv4.4.4//NONSGML v1.0//EN
CALSCALE:GREGORIAN
METHOD:PUBLISH
X-WR-CALNAME:B&#039;s Bells &amp; Bootcamps
X-ORIGINAL-URL:http://bsbells.com
X-WR-CALDESC:Events for B&#039;s Bells &amp; Bootcamps
BEGIN:VEVENT
DTSTART;TZID=UTC+0:20180929T070000
DTEND;TZID=UTC+0:20180929T080000
DTSTAMP:20260423T225652
CREATED:20151222T195118Z
LAST-MODIFIED:20151222T195118Z
UID:13514-1538204400-1538208000@bsbells.com
SUMMARY:Kettlebell Class
DESCRIPTION:
URL:http://bsbells.com/event/kettlebell-class-20-2018-09-29/
LOCATION:511 E Main Street\, Campbellsport\, WI\, 53010\, United States
END:VEVENT
BEGIN:VEVENT
DTSTART;TZID=UTC+0:20180929T080000
DTEND;TZID=UTC+0:20180929T090000
DTSTAMP:20260423T225652
CREATED:20151222T195200Z
LAST-MODIFIED:20151222T195200Z
UID:13515-1538208000-1538211600@bsbells.com
SUMMARY:Kettlebell Class
DESCRIPTION:
URL:http://bsbells.com/event/kettlebell-class-21-2018-09-29/
LOCATION:511 E Main Street\, Campbellsport\, WI\, 53010\, United States
END:VEVENT
BEGIN:VEVENT
DTSTART;TZID=UTC+0:20180929T090000
DTEND;TZID=UTC+0:20180929T100000
DTSTAMP:20260423T225652
CREATED:20160128T085125Z
LAST-MODIFIED:20160128T085125Z
UID:13516-1538211600-1538215200@bsbells.com
SUMMARY:Essentials Class
DESCRIPTION:Kettlebell Essentials Class\n*Must take before starting Kettlebell Class\n
URL:http://bsbells.com/event/essentials-class-2018-09-29/
LOCATION:511 E Main Street\, Campbellsport\, WI\, 53010\, United States
END:VEVENT
END:VCALENDAR