BEGIN:VCALENDAR
VERSION:2.0
PRODID:-//B&#039;s Bells &amp; Bootcamps - ECPv4.4.4//NONSGML v1.0//EN
CALSCALE:GREGORIAN
METHOD:PUBLISH
X-WR-CALNAME:B&#039;s Bells &amp; Bootcamps
X-ORIGINAL-URL:http://bsbells.com
X-WR-CALDESC:Events for B&#039;s Bells &amp; Bootcamps
BEGIN:VEVENT
DTSTART;TZID=UTC+0:20180912T050000
DTEND;TZID=UTC+0:20180912T060000
DTSTAMP:20260423T230937
CREATED:20151222T193134Z
LAST-MODIFIED:20151222T193134Z
UID:13457-1536728400-1536732000@bsbells.com
SUMMARY:Kettlebell Class
DESCRIPTION:
URL:http://bsbells.com/event/kettlebell-class-3-2018-09-12/
LOCATION:511 E Main Street\, Campbellsport\, WI\, 53010\, United States
END:VEVENT
BEGIN:VEVENT
DTSTART;TZID=UTC+0:20180912T050000
DTEND;TZID=UTC+0:20180912T060000
DTSTAMP:20260423T230937
CREATED:20151222T193846Z
LAST-MODIFIED:20151222T193846Z
UID:13461-1536728400-1536732000@bsbells.com
SUMMARY:Kettlebell Class
DESCRIPTION:
URL:http://bsbells.com/event/kettlebell-class-9-2018-09-12/
LOCATION:511 E Main Street\, Campbellsport\, WI\, 53010\, United States
END:VEVENT
BEGIN:VEVENT
DTSTART;TZID=UTC+0:20180912T060000
DTEND;TZID=UTC+0:20180912T070000
DTSTAMP:20260423T230937
CREATED:20151222T194456Z
LAST-MODIFIED:20151222T194456Z
UID:13458-1536732000-1536735600@bsbells.com
SUMMARY:Kettlebell Class
DESCRIPTION:
URL:http://bsbells.com/event/kettlebell-class-14-2018-09-12/
LOCATION:511 E Main Street\, Campbellsport\, WI\, 53010\, United States
END:VEVENT
BEGIN:VEVENT
DTSTART;TZID=UTC+0:20180912T160000
DTEND;TZID=UTC+0:20180912T170000
DTSTAMP:20260423T230937
CREATED:20151222T194200Z
LAST-MODIFIED:20151222T194200Z
UID:13460-1536768000-1536771600@bsbells.com
SUMMARY:
DESCRIPTION:[text_divider type="single"]\nText Divider\n[/text_divider]
URL:http://bsbells.com/event/10298-2018-09-12/
LOCATION:511 E Main Street\, Campbellsport\, WI\, 53010\, United States
END:VEVENT
BEGIN:VEVENT
DTSTART;TZID=UTC+0:20180912T170000
DTEND;TZID=UTC+0:20180912T180000
DTSTAMP:20260423T230937
CREATED:20151222T194409Z
LAST-MODIFIED:20151222T194409Z
UID:13459-1536771600-1536775200@bsbells.com
SUMMARY:Kettlebell Class
DESCRIPTION:
URL:http://bsbells.com/event/kettlebell-class-13-2018-09-12/
LOCATION:511 E Main Street\, Campbellsport\, WI\, 53010\, United States
END:VEVENT
END:VCALENDAR