BEGIN:VCALENDAR
VERSION:2.0
PRODID:-//B&#039;s Bells &amp; Bootcamps - ECPv4.4.4//NONSGML v1.0//EN
CALSCALE:GREGORIAN
METHOD:PUBLISH
X-WR-CALNAME:B&#039;s Bells &amp; Bootcamps
X-ORIGINAL-URL:http://bsbells.com
X-WR-CALDESC:Events for B&#039;s Bells &amp; Bootcamps
BEGIN:VEVENT
DTSTART;TZID=UTC+0:20180906T070000
DTEND;TZID=UTC+0:20180906T080000
DTSTAMP:20260423T225700
CREATED:20151222T194546Z
LAST-MODIFIED:20151222T194546Z
UID:13439-1536217200-1536220800@bsbells.com
SUMMARY:Kettlebell Class
DESCRIPTION:
URL:http://bsbells.com/event/kettlebell-class-15-2018-09-06/
LOCATION:511 E Main Street\, Campbellsport\, WI\, 53010\, United States
END:VEVENT
BEGIN:VEVENT
DTSTART;TZID=UTC+0:20180906T160000
DTEND;TZID=UTC+0:20180906T170000
DTSTAMP:20260423T225700
CREATED:20151222T194810Z
LAST-MODIFIED:20151222T194810Z
UID:13441-1536249600-1536253200@bsbells.com
SUMMARY:Kettlebell Class
DESCRIPTION:
URL:http://bsbells.com/event/kettlebell-class-16-2016-01-28-2018-09-06/
LOCATION:511 E Main Street\, Campbellsport\, WI\, 53010\, United States
END:VEVENT
BEGIN:VEVENT
DTSTART;TZID=UTC+0:20180906T160000
DTEND;TZID=UTC+0:20180906T170000
DTSTAMP:20260423T225700
CREATED:20151222T194810Z
LAST-MODIFIED:20151222T194810Z
UID:13442-1536249600-1536253200@bsbells.com
SUMMARY:Kettlebell Class
DESCRIPTION:
URL:http://bsbells.com/event/kettlebell-class-16-2018-09-06/
LOCATION:511 E Main Street\, Campbellsport\, WI\, 53010\, United States
END:VEVENT
BEGIN:VEVENT
DTSTART;TZID=UTC+0:20180906T170000
DTEND;TZID=UTC+0:20180906T180000
DTSTAMP:20260423T225700
CREATED:20151222T194847Z
LAST-MODIFIED:20151222T194847Z
UID:13440-1536253200-1536256800@bsbells.com
SUMMARY:Kettlebell Class
DESCRIPTION:
URL:http://bsbells.com/event/kettlebell-class-17-2018-09-06/
LOCATION:511 E Main Street\, Campbellsport\, WI\, 53010\, United States
END:VEVENT
END:VCALENDAR