BEGIN:VCALENDAR
VERSION:2.0
PRODID:-//B&#039;s Bells &amp; Bootcamps - ECPv4.4.4//NONSGML v1.0//EN
CALSCALE:GREGORIAN
METHOD:PUBLISH
X-WR-CALNAME:B&#039;s Bells &amp; Bootcamps
X-ORIGINAL-URL:http://bsbells.com
X-WR-CALDESC:Events for B&#039;s Bells &amp; Bootcamps
BEGIN:VEVENT
DTSTART;TZID=UTC+0:20180901T070000
DTEND;TZID=UTC+0:20180901T080000
DTSTAMP:20260423T225700
CREATED:20151222T195118Z
LAST-MODIFIED:20151222T195118Z
UID:13315-1535785200-1535788800@bsbells.com
SUMMARY:Kettlebell Class
DESCRIPTION:
URL:http://bsbells.com/event/kettlebell-class-20-2018-09-01/
LOCATION:511 E Main Street\, Campbellsport\, WI\, 53010\, United States
END:VEVENT
BEGIN:VEVENT
DTSTART;TZID=UTC+0:20180901T080000
DTEND;TZID=UTC+0:20180901T090000
DTSTAMP:20260423T225700
CREATED:20151222T195200Z
LAST-MODIFIED:20151222T195200Z
UID:13316-1535788800-1535792400@bsbells.com
SUMMARY:Kettlebell Class
DESCRIPTION:
URL:http://bsbells.com/event/kettlebell-class-21-2018-09-01/
LOCATION:511 E Main Street\, Campbellsport\, WI\, 53010\, United States
END:VEVENT
BEGIN:VEVENT
DTSTART;TZID=UTC+0:20180901T090000
DTEND;TZID=UTC+0:20180901T100000
DTSTAMP:20260423T225700
CREATED:20160128T085125Z
LAST-MODIFIED:20160128T085125Z
UID:13317-1535792400-1535796000@bsbells.com
SUMMARY:Essentials Class
DESCRIPTION:Kettlebell Essentials Class\n*Must take before starting Kettlebell Class\n
URL:http://bsbells.com/event/essentials-class-2018-09-01/
LOCATION:511 E Main Street\, Campbellsport\, WI\, 53010\, United States
END:VEVENT
END:VCALENDAR