BEGIN:VCALENDAR
VERSION:2.0
PRODID:-//B&#039;s Bells &amp; Bootcamps - ECPv4.4.4//NONSGML v1.0//EN
CALSCALE:GREGORIAN
METHOD:PUBLISH
X-WR-CALNAME:B&#039;s Bells &amp; Bootcamps
X-ORIGINAL-URL:http://bsbells.com
X-WR-CALDESC:Events for B&#039;s Bells &amp; Bootcamps
BEGIN:VEVENT
DTSTART;TZID=UTC+0:20180828T060000
DTEND;TZID=UTC+0:20180828T070000
DTSTAMP:20260423T225706
CREATED:20151222T193714Z
LAST-MODIFIED:20151222T193714Z
UID:13300-1535436000-1535439600@bsbells.com
SUMMARY:Kettlebell Class
DESCRIPTION:
URL:http://bsbells.com/event/kettlebell-class-7-2018-08-28/
LOCATION:511 E Main Street\, Campbellsport\, WI\, 53010\, United States
END:VEVENT
BEGIN:VEVENT
DTSTART;TZID=UTC+0:20180828T060000
DTEND;TZID=UTC+0:20180828T070000
DTSTAMP:20260423T225706
CREATED:20151222T193921Z
LAST-MODIFIED:20151222T193921Z
UID:13302-1535436000-1535439600@bsbells.com
SUMMARY:Kettlebell Class
DESCRIPTION:
URL:http://bsbells.com/event/kettlebell-class-10-2018-08-28/
LOCATION:511 E Main Street\, Campbellsport\, WI\, 53010\, United States
END:VEVENT
BEGIN:VEVENT
DTSTART;TZID=UTC+0:20180828T070000
DTEND;TZID=UTC+0:20180828T080000
DTSTAMP:20260423T225706
CREATED:20151222T193803Z
LAST-MODIFIED:20151222T193803Z
UID:13301-1535439600-1535443200@bsbells.com
SUMMARY:Kettlebell Class
DESCRIPTION:
URL:http://bsbells.com/event/kettlebell-class-8-2018-08-28/
LOCATION:511 E Main Street\, Campbellsport\, WI\, 53010\, United States
END:VEVENT
BEGIN:VEVENT
DTSTART;TZID=UTC+0:20180828T160000
DTEND;TZID=UTC+0:20180828T170000
DTSTAMP:20260423T225706
CREATED:20151222T194120Z
LAST-MODIFIED:20151222T194120Z
UID:13299-1535472000-1535475600@bsbells.com
SUMMARY:Kettlebell Class
DESCRIPTION:
URL:http://bsbells.com/event/kettlebell-class-12-2018-08-28/
LOCATION:511 E Main Street\, Campbellsport\, WI\, 53010\, United States
END:VEVENT
BEGIN:VEVENT
DTSTART;TZID=UTC+0:20180828T170000
DTEND;TZID=UTC+0:20180828T180000
DTSTAMP:20260423T225706
CREATED:20151222T193537Z
LAST-MODIFIED:20151222T193537Z
UID:13298-1535475600-1535479200@bsbells.com
SUMMARY:Kettlebell Class
DESCRIPTION:
URL:http://bsbells.com/event/kettlebell-class-6-2018-08-28/
LOCATION:511 E Main Street\, Campbellsport\, WI\, 53010\, United States
END:VEVENT
END:VCALENDAR