BEGIN:VCALENDAR
VERSION:2.0
PRODID:-//B&#039;s Bells &amp; Bootcamps - ECPv4.4.4//NONSGML v1.0//EN
CALSCALE:GREGORIAN
METHOD:PUBLISH
X-WR-CALNAME:B&#039;s Bells &amp; Bootcamps
X-ORIGINAL-URL:http://bsbells.com
X-WR-CALDESC:Events for B&#039;s Bells &amp; Bootcamps
BEGIN:VEVENT
DTSTART;TZID=UTC+0:20180827T050000
DTEND;TZID=UTC+0:20180827T060000
DTSTAMP:20260423T225705
CREATED:20151222T192826Z
LAST-MODIFIED:20151222T192826Z
UID:13295-1535346000-1535349600@bsbells.com
SUMMARY:Kettlebell Class
DESCRIPTION:
URL:http://bsbells.com/event/kettlebell-class-2-2018-08-27/
LOCATION:511 E Main Street\, Campbellsport\, WI\, 53010\, United States
END:VEVENT
BEGIN:VEVENT
DTSTART;TZID=UTC+0:20180827T090000
DTEND;TZID=UTC+0:20180827T100000
DTSTAMP:20260423T225705
CREATED:20151222T193245Z
LAST-MODIFIED:20151222T193245Z
UID:13296-1535360400-1535364000@bsbells.com
SUMMARY:Kettlebell Class
DESCRIPTION:
URL:http://bsbells.com/event/kettlebell-class-4-2018-08-27/
LOCATION:511 E Main Street\, Campbellsport\, WI\, 53010\, United States
END:VEVENT
BEGIN:VEVENT
DTSTART;TZID=UTC+0:20180827T090000
DTEND;TZID=UTC+0:20180827T100000
DTSTAMP:20260423T225705
CREATED:20151222T195029Z
LAST-MODIFIED:20160904T003911Z
UID:13422-1535360400-1535364000@bsbells.com
SUMMARY:Kettlebell Class
DESCRIPTION:Kettlebell Class\n*Must take Essentials Class prior to starting this class\n
URL:http://bsbells.com/event/kettlebell-class-19-2018-08-27/
LOCATION:511 E Main Street\, Campbellsport\, WI\, 53010\, United States
END:VEVENT
BEGIN:VEVENT
DTSTART;TZID=UTC+0:20180827T160000
DTEND;TZID=UTC+0:20180827T170000
DTSTAMP:20260423T225705
CREATED:20151222T193405Z
LAST-MODIFIED:20151222T193405Z
UID:13297-1535385600-1535389200@bsbells.com
SUMMARY:Kettlebell Class
DESCRIPTION:
URL:http://bsbells.com/event/kettlebell-class-5-2018-08-27/
LOCATION:511 E Main Street\, Campbellsport\, WI\, 53010\, United States
END:VEVENT
END:VCALENDAR