BEGIN:VCALENDAR
VERSION:2.0
PRODID:-//B&#039;s Bells &amp; Bootcamps - ECPv4.4.4//NONSGML v1.0//EN
CALSCALE:GREGORIAN
METHOD:PUBLISH
X-WR-CALNAME:B&#039;s Bells &amp; Bootcamps
X-ORIGINAL-URL:http://bsbells.com
X-WR-CALDESC:Events for B&#039;s Bells &amp; Bootcamps
BEGIN:VEVENT
DTSTART;TZID=UTC+0:20180822T050000
DTEND;TZID=UTC+0:20180822T060000
DTSTAMP:20260424T004725
CREATED:20151222T193134Z
LAST-MODIFIED:20151222T193134Z
UID:13280-1534914000-1534917600@bsbells.com
SUMMARY:Kettlebell Class
DESCRIPTION:
URL:http://bsbells.com/event/kettlebell-class-3-2018-08-22/
LOCATION:511 E Main Street\, Campbellsport\, WI\, 53010\, United States
END:VEVENT
BEGIN:VEVENT
DTSTART;TZID=UTC+0:20180822T050000
DTEND;TZID=UTC+0:20180822T060000
DTSTAMP:20260424T004725
CREATED:20151222T193846Z
LAST-MODIFIED:20151222T193846Z
UID:13284-1534914000-1534917600@bsbells.com
SUMMARY:Kettlebell Class
DESCRIPTION:
URL:http://bsbells.com/event/kettlebell-class-9-2018-08-22/
LOCATION:511 E Main Street\, Campbellsport\, WI\, 53010\, United States
END:VEVENT
BEGIN:VEVENT
DTSTART;TZID=UTC+0:20180822T060000
DTEND;TZID=UTC+0:20180822T070000
DTSTAMP:20260424T004725
CREATED:20151222T194456Z
LAST-MODIFIED:20151222T194456Z
UID:13281-1534917600-1534921200@bsbells.com
SUMMARY:Kettlebell Class
DESCRIPTION:
URL:http://bsbells.com/event/kettlebell-class-14-2018-08-22/
LOCATION:511 E Main Street\, Campbellsport\, WI\, 53010\, United States
END:VEVENT
BEGIN:VEVENT
DTSTART;TZID=UTC+0:20180822T160000
DTEND;TZID=UTC+0:20180822T170000
DTSTAMP:20260424T004725
CREATED:20151222T194200Z
LAST-MODIFIED:20151222T194200Z
UID:13283-1534953600-1534957200@bsbells.com
SUMMARY:
DESCRIPTION:[text_divider type="single"]\nText Divider\n[/text_divider]
URL:http://bsbells.com/event/10298-2018-08-22/
LOCATION:511 E Main Street\, Campbellsport\, WI\, 53010\, United States
END:VEVENT
BEGIN:VEVENT
DTSTART;TZID=UTC+0:20180822T170000
DTEND;TZID=UTC+0:20180822T180000
DTSTAMP:20260424T004725
CREATED:20151222T194409Z
LAST-MODIFIED:20151222T194409Z
UID:13282-1534957200-1534960800@bsbells.com
SUMMARY:Kettlebell Class
DESCRIPTION:
URL:http://bsbells.com/event/kettlebell-class-13-2018-08-22/
LOCATION:511 E Main Street\, Campbellsport\, WI\, 53010\, United States
END:VEVENT
END:VCALENDAR