BEGIN:VCALENDAR
VERSION:2.0
PRODID:-//B&#039;s Bells &amp; Bootcamps - ECPv4.4.4//NONSGML v1.0//EN
CALSCALE:GREGORIAN
METHOD:PUBLISH
X-WR-CALNAME:B&#039;s Bells &amp; Bootcamps
X-ORIGINAL-URL:http://bsbells.com
X-WR-CALDESC:Events for B&#039;s Bells &amp; Bootcamps
BEGIN:VEVENT
DTSTART;TZID=UTC+0:20180807T060000
DTEND;TZID=UTC+0:20180807T070000
DTSTAMP:20260424T005249
CREATED:20151222T193714Z
LAST-MODIFIED:20151222T193714Z
UID:13231-1533621600-1533625200@bsbells.com
SUMMARY:Kettlebell Class
DESCRIPTION:
URL:http://bsbells.com/event/kettlebell-class-7-2018-08-07/
LOCATION:511 E Main Street\, Campbellsport\, WI\, 53010\, United States
END:VEVENT
BEGIN:VEVENT
DTSTART;TZID=UTC+0:20180807T060000
DTEND;TZID=UTC+0:20180807T070000
DTSTAMP:20260424T005249
CREATED:20151222T193921Z
LAST-MODIFIED:20151222T193921Z
UID:13233-1533621600-1533625200@bsbells.com
SUMMARY:Kettlebell Class
DESCRIPTION:
URL:http://bsbells.com/event/kettlebell-class-10-2018-08-07/
LOCATION:511 E Main Street\, Campbellsport\, WI\, 53010\, United States
END:VEVENT
BEGIN:VEVENT
DTSTART;TZID=UTC+0:20180807T070000
DTEND;TZID=UTC+0:20180807T080000
DTSTAMP:20260424T005249
CREATED:20151222T193803Z
LAST-MODIFIED:20151222T193803Z
UID:13232-1533625200-1533628800@bsbells.com
SUMMARY:Kettlebell Class
DESCRIPTION:
URL:http://bsbells.com/event/kettlebell-class-8-2018-08-07/
LOCATION:511 E Main Street\, Campbellsport\, WI\, 53010\, United States
END:VEVENT
BEGIN:VEVENT
DTSTART;TZID=UTC+0:20180807T160000
DTEND;TZID=UTC+0:20180807T170000
DTSTAMP:20260424T005249
CREATED:20151222T194120Z
LAST-MODIFIED:20151222T194120Z
UID:13230-1533657600-1533661200@bsbells.com
SUMMARY:Kettlebell Class
DESCRIPTION:
URL:http://bsbells.com/event/kettlebell-class-12-2018-08-07/
LOCATION:511 E Main Street\, Campbellsport\, WI\, 53010\, United States
END:VEVENT
BEGIN:VEVENT
DTSTART;TZID=UTC+0:20180807T170000
DTEND;TZID=UTC+0:20180807T180000
DTSTAMP:20260424T005249
CREATED:20151222T193537Z
LAST-MODIFIED:20151222T193537Z
UID:13229-1533661200-1533664800@bsbells.com
SUMMARY:Kettlebell Class
DESCRIPTION:
URL:http://bsbells.com/event/kettlebell-class-6-2018-08-07/
LOCATION:511 E Main Street\, Campbellsport\, WI\, 53010\, United States
END:VEVENT
END:VCALENDAR