BEGIN:VCALENDAR
VERSION:2.0
PRODID:-//B&#039;s Bells &amp; Bootcamps - ECPv4.4.4//NONSGML v1.0//EN
CALSCALE:GREGORIAN
METHOD:PUBLISH
X-WR-CALNAME:B&#039;s Bells &amp; Bootcamps
X-ORIGINAL-URL:http://bsbells.com
X-WR-CALDESC:Events for B&#039;s Bells &amp; Bootcamps
BEGIN:VEVENT
DTSTART;TZID=UTC+0:20180730T050000
DTEND;TZID=UTC+0:20180730T060000
DTSTAMP:20260424T005032
CREATED:20151222T192826Z
LAST-MODIFIED:20151222T192826Z
UID:13199-1532926800-1532930400@bsbells.com
SUMMARY:Kettlebell Class
DESCRIPTION:
URL:http://bsbells.com/event/kettlebell-class-2-2018-07-30/
LOCATION:511 E Main Street\, Campbellsport\, WI\, 53010\, United States
END:VEVENT
BEGIN:VEVENT
DTSTART;TZID=UTC+0:20180730T090000
DTEND;TZID=UTC+0:20180730T100000
DTSTAMP:20260424T005032
CREATED:20151222T193245Z
LAST-MODIFIED:20151222T193245Z
UID:13200-1532941200-1532944800@bsbells.com
SUMMARY:Kettlebell Class
DESCRIPTION:
URL:http://bsbells.com/event/kettlebell-class-4-2018-07-30/
LOCATION:511 E Main Street\, Campbellsport\, WI\, 53010\, United States
END:VEVENT
BEGIN:VEVENT
DTSTART;TZID=UTC+0:20180730T090000
DTEND;TZID=UTC+0:20180730T100000
DTSTAMP:20260424T005032
CREATED:20151222T195029Z
LAST-MODIFIED:20160904T003910Z
UID:13418-1532941200-1532944800@bsbells.com
SUMMARY:Kettlebell Class
DESCRIPTION:Kettlebell Class\n*Must take Essentials Class prior to starting this class\n
URL:http://bsbells.com/event/kettlebell-class-19-2018-07-30/
LOCATION:511 E Main Street\, Campbellsport\, WI\, 53010\, United States
END:VEVENT
BEGIN:VEVENT
DTSTART;TZID=UTC+0:20180730T160000
DTEND;TZID=UTC+0:20180730T170000
DTSTAMP:20260424T005032
CREATED:20151222T193405Z
LAST-MODIFIED:20151222T193405Z
UID:13201-1532966400-1532970000@bsbells.com
SUMMARY:Kettlebell Class
DESCRIPTION:
URL:http://bsbells.com/event/kettlebell-class-5-2018-07-30/
LOCATION:511 E Main Street\, Campbellsport\, WI\, 53010\, United States
END:VEVENT
END:VCALENDAR