BEGIN:VCALENDAR
VERSION:2.0
PRODID:-//B&#039;s Bells &amp; Bootcamps - ECPv4.4.4//NONSGML v1.0//EN
CALSCALE:GREGORIAN
METHOD:PUBLISH
X-WR-CALNAME:B&#039;s Bells &amp; Bootcamps
X-ORIGINAL-URL:http://bsbells.com
X-WR-CALDESC:Events for B&#039;s Bells &amp; Bootcamps
BEGIN:VEVENT
DTSTART;TZID=UTC+0:20180726T070000
DTEND;TZID=UTC+0:20180726T080000
DTSTAMP:20260424T022316
CREATED:20151222T194546Z
LAST-MODIFIED:20151222T194546Z
UID:13189-1532588400-1532592000@bsbells.com
SUMMARY:Kettlebell Class
DESCRIPTION:
URL:http://bsbells.com/event/kettlebell-class-15-2018-07-26/
LOCATION:511 E Main Street\, Campbellsport\, WI\, 53010\, United States
END:VEVENT
BEGIN:VEVENT
DTSTART;TZID=UTC+0:20180726T160000
DTEND;TZID=UTC+0:20180726T170000
DTSTAMP:20260424T022316
CREATED:20151222T194810Z
LAST-MODIFIED:20151222T194810Z
UID:13191-1532620800-1532624400@bsbells.com
SUMMARY:Kettlebell Class
DESCRIPTION:
URL:http://bsbells.com/event/kettlebell-class-16-2016-01-28-2018-07-26/
LOCATION:511 E Main Street\, Campbellsport\, WI\, 53010\, United States
END:VEVENT
BEGIN:VEVENT
DTSTART;TZID=UTC+0:20180726T160000
DTEND;TZID=UTC+0:20180726T170000
DTSTAMP:20260424T022316
CREATED:20151222T194810Z
LAST-MODIFIED:20151222T194810Z
UID:13192-1532620800-1532624400@bsbells.com
SUMMARY:Kettlebell Class
DESCRIPTION:
URL:http://bsbells.com/event/kettlebell-class-16-2018-07-26/
LOCATION:511 E Main Street\, Campbellsport\, WI\, 53010\, United States
END:VEVENT
BEGIN:VEVENT
DTSTART;TZID=UTC+0:20180726T170000
DTEND;TZID=UTC+0:20180726T180000
DTSTAMP:20260424T022316
CREATED:20151222T194847Z
LAST-MODIFIED:20151222T194847Z
UID:13190-1532624400-1532628000@bsbells.com
SUMMARY:Kettlebell Class
DESCRIPTION:
URL:http://bsbells.com/event/kettlebell-class-17-2018-07-26/
LOCATION:511 E Main Street\, Campbellsport\, WI\, 53010\, United States
END:VEVENT
END:VCALENDAR