BEGIN:VCALENDAR
VERSION:2.0
PRODID:-//B&#039;s Bells &amp; Bootcamps - ECPv4.4.4//NONSGML v1.0//EN
CALSCALE:GREGORIAN
METHOD:PUBLISH
X-WR-CALNAME:B&#039;s Bells &amp; Bootcamps
X-ORIGINAL-URL:http://bsbells.com
X-WR-CALDESC:Events for B&#039;s Bells &amp; Bootcamps
BEGIN:VEVENT
DTSTART;TZID=UTC+0:20180724T060000
DTEND;TZID=UTC+0:20180724T070000
DTSTAMP:20260424T022221
CREATED:20151222T193714Z
LAST-MODIFIED:20151222T193714Z
UID:13181-1532412000-1532415600@bsbells.com
SUMMARY:Kettlebell Class
DESCRIPTION:
URL:http://bsbells.com/event/kettlebell-class-7-2018-07-24/
LOCATION:511 E Main Street\, Campbellsport\, WI\, 53010\, United States
END:VEVENT
BEGIN:VEVENT
DTSTART;TZID=UTC+0:20180724T060000
DTEND;TZID=UTC+0:20180724T070000
DTSTAMP:20260424T022221
CREATED:20151222T193921Z
LAST-MODIFIED:20151222T193921Z
UID:13183-1532412000-1532415600@bsbells.com
SUMMARY:Kettlebell Class
DESCRIPTION:
URL:http://bsbells.com/event/kettlebell-class-10-2018-07-24/
LOCATION:511 E Main Street\, Campbellsport\, WI\, 53010\, United States
END:VEVENT
BEGIN:VEVENT
DTSTART;TZID=UTC+0:20180724T070000
DTEND;TZID=UTC+0:20180724T080000
DTSTAMP:20260424T022221
CREATED:20151222T193803Z
LAST-MODIFIED:20151222T193803Z
UID:13182-1532415600-1532419200@bsbells.com
SUMMARY:Kettlebell Class
DESCRIPTION:
URL:http://bsbells.com/event/kettlebell-class-8-2018-07-24/
LOCATION:511 E Main Street\, Campbellsport\, WI\, 53010\, United States
END:VEVENT
BEGIN:VEVENT
DTSTART;TZID=UTC+0:20180724T160000
DTEND;TZID=UTC+0:20180724T170000
DTSTAMP:20260424T022221
CREATED:20151222T194120Z
LAST-MODIFIED:20151222T194120Z
UID:13180-1532448000-1532451600@bsbells.com
SUMMARY:Kettlebell Class
DESCRIPTION:
URL:http://bsbells.com/event/kettlebell-class-12-2018-07-24/
LOCATION:511 E Main Street\, Campbellsport\, WI\, 53010\, United States
END:VEVENT
BEGIN:VEVENT
DTSTART;TZID=UTC+0:20180724T170000
DTEND;TZID=UTC+0:20180724T180000
DTSTAMP:20260424T022221
CREATED:20151222T193537Z
LAST-MODIFIED:20151222T193537Z
UID:13179-1532451600-1532455200@bsbells.com
SUMMARY:Kettlebell Class
DESCRIPTION:
URL:http://bsbells.com/event/kettlebell-class-6-2018-07-24/
LOCATION:511 E Main Street\, Campbellsport\, WI\, 53010\, United States
END:VEVENT
END:VCALENDAR