BEGIN:VCALENDAR
VERSION:2.0
PRODID:-//B&#039;s Bells &amp; Bootcamps - ECPv4.4.4//NONSGML v1.0//EN
CALSCALE:GREGORIAN
METHOD:PUBLISH
X-WR-CALNAME:B&#039;s Bells &amp; Bootcamps
X-ORIGINAL-URL:http://bsbells.com
X-WR-CALDESC:Events for B&#039;s Bells &amp; Bootcamps
BEGIN:VEVENT
DTSTART;TZID=UTC+0:20180714T070000
DTEND;TZID=UTC+0:20180714T080000
DTSTAMP:20260424T022222
CREATED:20151222T195118Z
LAST-MODIFIED:20151222T195118Z
UID:13150-1531551600-1531555200@bsbells.com
SUMMARY:Kettlebell Class
DESCRIPTION:
URL:http://bsbells.com/event/kettlebell-class-20-2018-07-14/
LOCATION:511 E Main Street\, Campbellsport\, WI\, 53010\, United States
END:VEVENT
BEGIN:VEVENT
DTSTART;TZID=UTC+0:20180714T080000
DTEND;TZID=UTC+0:20180714T090000
DTSTAMP:20260424T022222
CREATED:20151222T195200Z
LAST-MODIFIED:20151222T195200Z
UID:13151-1531555200-1531558800@bsbells.com
SUMMARY:Kettlebell Class
DESCRIPTION:
URL:http://bsbells.com/event/kettlebell-class-21-2018-07-14/
LOCATION:511 E Main Street\, Campbellsport\, WI\, 53010\, United States
END:VEVENT
BEGIN:VEVENT
DTSTART;TZID=UTC+0:20180714T090000
DTEND;TZID=UTC+0:20180714T100000
DTSTAMP:20260424T022222
CREATED:20160128T085125Z
LAST-MODIFIED:20160128T085125Z
UID:13152-1531558800-1531562400@bsbells.com
SUMMARY:Essentials Class
DESCRIPTION:Kettlebell Essentials Class\n*Must take before starting Kettlebell Class\n
URL:http://bsbells.com/event/essentials-class-2018-07-14/
LOCATION:511 E Main Street\, Campbellsport\, WI\, 53010\, United States
END:VEVENT
END:VCALENDAR