BEGIN:VCALENDAR
VERSION:2.0
PRODID:-//B&#039;s Bells &amp; Bootcamps - ECPv4.4.4//NONSGML v1.0//EN
CALSCALE:GREGORIAN
METHOD:PUBLISH
X-WR-CALNAME:B&#039;s Bells &amp; Bootcamps
X-ORIGINAL-URL:http://bsbells.com
X-WR-CALDESC:Events for B&#039;s Bells &amp; Bootcamps
BEGIN:VEVENT
DTSTART;TZID=UTC+0:20180713T060000
DTEND;TZID=UTC+0:20180713T070000
DTSTAMP:20260424T035251
CREATED:20151222T194946Z
LAST-MODIFIED:20151222T194946Z
UID:13147-1531461600-1531465200@bsbells.com
SUMMARY:Kettlebell Class
DESCRIPTION:
URL:http://bsbells.com/event/kettlebell-class-18-2018-07-13/
LOCATION:511 E Main Street\, Campbellsport\, WI\, 53010\, United States
END:VEVENT
BEGIN:VEVENT
DTSTART;TZID=UTC+0:20180713T090000
DTEND;TZID=UTC+0:20180713T100000
DTSTAMP:20260424T035251
CREATED:20151222T195029Z
LAST-MODIFIED:20151222T195029Z
UID:13149-1531472400-1531476000@bsbells.com
SUMMARY:Kettlebell Class
DESCRIPTION:Kettlebell Class\n*Must take Essentials Class prior to starting this class\n
URL:http://bsbells.com/event/kettlebell-class-19-2016-01-29-2018-07-13/
LOCATION:511 E Main Street\, Campbellsport\, WI\, 53010\, United States
END:VEVENT
END:VCALENDAR