BEGIN:VCALENDAR
VERSION:2.0
PRODID:-//B&#039;s Bells &amp; Bootcamps - ECPv4.4.4//NONSGML v1.0//EN
CALSCALE:GREGORIAN
METHOD:PUBLISH
X-WR-CALNAME:B&#039;s Bells &amp; Bootcamps
X-ORIGINAL-URL:http://bsbells.com
X-WR-CALDESC:Events for B&#039;s Bells &amp; Bootcamps
BEGIN:VEVENT
DTSTART;TZID=UTC+0:20180711T050000
DTEND;TZID=UTC+0:20180711T060000
DTSTAMP:20260424T035254
CREATED:20151222T193134Z
LAST-MODIFIED:20151222T193134Z
UID:13138-1531285200-1531288800@bsbells.com
SUMMARY:Kettlebell Class
DESCRIPTION:
URL:http://bsbells.com/event/kettlebell-class-3-2018-07-11/
LOCATION:511 E Main Street\, Campbellsport\, WI\, 53010\, United States
END:VEVENT
BEGIN:VEVENT
DTSTART;TZID=UTC+0:20180711T050000
DTEND;TZID=UTC+0:20180711T060000
DTSTAMP:20260424T035254
CREATED:20151222T193846Z
LAST-MODIFIED:20151222T193846Z
UID:13142-1531285200-1531288800@bsbells.com
SUMMARY:Kettlebell Class
DESCRIPTION:
URL:http://bsbells.com/event/kettlebell-class-9-2018-07-11/
LOCATION:511 E Main Street\, Campbellsport\, WI\, 53010\, United States
END:VEVENT
BEGIN:VEVENT
DTSTART;TZID=UTC+0:20180711T060000
DTEND;TZID=UTC+0:20180711T070000
DTSTAMP:20260424T035254
CREATED:20151222T194456Z
LAST-MODIFIED:20151222T194456Z
UID:13139-1531288800-1531292400@bsbells.com
SUMMARY:Kettlebell Class
DESCRIPTION:
URL:http://bsbells.com/event/kettlebell-class-14-2018-07-11/
LOCATION:511 E Main Street\, Campbellsport\, WI\, 53010\, United States
END:VEVENT
BEGIN:VEVENT
DTSTART;TZID=UTC+0:20180711T160000
DTEND;TZID=UTC+0:20180711T170000
DTSTAMP:20260424T035254
CREATED:20151222T194200Z
LAST-MODIFIED:20151222T194200Z
UID:13141-1531324800-1531328400@bsbells.com
SUMMARY:
DESCRIPTION:[text_divider type="single"]\nText Divider\n[/text_divider]
URL:http://bsbells.com/event/10298-2018-07-11/
LOCATION:511 E Main Street\, Campbellsport\, WI\, 53010\, United States
END:VEVENT
BEGIN:VEVENT
DTSTART;TZID=UTC+0:20180711T170000
DTEND;TZID=UTC+0:20180711T180000
DTSTAMP:20260424T035254
CREATED:20151222T194409Z
LAST-MODIFIED:20151222T194409Z
UID:13140-1531328400-1531332000@bsbells.com
SUMMARY:Kettlebell Class
DESCRIPTION:
URL:http://bsbells.com/event/kettlebell-class-13-2018-07-11/
LOCATION:511 E Main Street\, Campbellsport\, WI\, 53010\, United States
END:VEVENT
END:VCALENDAR