BEGIN:VCALENDAR
VERSION:2.0
PRODID:-//B&#039;s Bells &amp; Bootcamps - ECPv4.4.4//NONSGML v1.0//EN
CALSCALE:GREGORIAN
METHOD:PUBLISH
X-WR-CALNAME:B&#039;s Bells &amp; Bootcamps
X-ORIGINAL-URL:http://bsbells.com
X-WR-CALDESC:Events for B&#039;s Bells &amp; Bootcamps
BEGIN:VEVENT
DTSTART;TZID=UTC+0:20180517T070000
DTEND;TZID=UTC+0:20180517T080000
DTSTAMP:20260424T052952
CREATED:20151222T194546Z
LAST-MODIFIED:20151222T194546Z
UID:12846-1526540400-1526544000@bsbells.com
SUMMARY:Kettlebell Class
DESCRIPTION:
URL:http://bsbells.com/event/kettlebell-class-15-2018-05-17/
LOCATION:511 E Main Street\, Campbellsport\, WI\, 53010\, United States
END:VEVENT
BEGIN:VEVENT
DTSTART;TZID=UTC+0:20180517T160000
DTEND;TZID=UTC+0:20180517T170000
DTSTAMP:20260424T052952
CREATED:20151222T194810Z
LAST-MODIFIED:20151222T194810Z
UID:12848-1526572800-1526576400@bsbells.com
SUMMARY:Kettlebell Class
DESCRIPTION:
URL:http://bsbells.com/event/kettlebell-class-16-2016-01-28-2018-05-17/
LOCATION:511 E Main Street\, Campbellsport\, WI\, 53010\, United States
END:VEVENT
BEGIN:VEVENT
DTSTART;TZID=UTC+0:20180517T160000
DTEND;TZID=UTC+0:20180517T170000
DTSTAMP:20260424T052952
CREATED:20151222T194810Z
LAST-MODIFIED:20151222T194810Z
UID:12849-1526572800-1526576400@bsbells.com
SUMMARY:Kettlebell Class
DESCRIPTION:
URL:http://bsbells.com/event/kettlebell-class-16-2018-05-17/
LOCATION:511 E Main Street\, Campbellsport\, WI\, 53010\, United States
END:VEVENT
BEGIN:VEVENT
DTSTART;TZID=UTC+0:20180517T170000
DTEND;TZID=UTC+0:20180517T180000
DTSTAMP:20260424T052952
CREATED:20151222T194847Z
LAST-MODIFIED:20151222T194847Z
UID:12847-1526576400-1526580000@bsbells.com
SUMMARY:Kettlebell Class
DESCRIPTION:
URL:http://bsbells.com/event/kettlebell-class-17-2018-05-17/
LOCATION:511 E Main Street\, Campbellsport\, WI\, 53010\, United States
END:VEVENT
END:VCALENDAR