BEGIN:VCALENDAR
VERSION:2.0
PRODID:-//B&#039;s Bells &amp; Bootcamps - ECPv4.4.4//NONSGML v1.0//EN
CALSCALE:GREGORIAN
METHOD:PUBLISH
X-WR-CALNAME:B&#039;s Bells &amp; Bootcamps
X-ORIGINAL-URL:http://bsbells.com
X-WR-CALDESC:Events for B&#039;s Bells &amp; Bootcamps
BEGIN:VEVENT
DTSTART;TZID=UTC+0:20180516T050000
DTEND;TZID=UTC+0:20180516T060000
DTSTAMP:20260424T053040
CREATED:20151222T193134Z
LAST-MODIFIED:20151222T193134Z
UID:12841-1526446800-1526450400@bsbells.com
SUMMARY:Kettlebell Class
DESCRIPTION:
URL:http://bsbells.com/event/kettlebell-class-3-2018-05-16/
LOCATION:511 E Main Street\, Campbellsport\, WI\, 53010\, United States
END:VEVENT
BEGIN:VEVENT
DTSTART;TZID=UTC+0:20180516T050000
DTEND;TZID=UTC+0:20180516T060000
DTSTAMP:20260424T053040
CREATED:20151222T193846Z
LAST-MODIFIED:20151222T193846Z
UID:12845-1526446800-1526450400@bsbells.com
SUMMARY:Kettlebell Class
DESCRIPTION:
URL:http://bsbells.com/event/kettlebell-class-9-2018-05-16/
LOCATION:511 E Main Street\, Campbellsport\, WI\, 53010\, United States
END:VEVENT
BEGIN:VEVENT
DTSTART;TZID=UTC+0:20180516T060000
DTEND;TZID=UTC+0:20180516T070000
DTSTAMP:20260424T053040
CREATED:20151222T194456Z
LAST-MODIFIED:20151222T194456Z
UID:12842-1526450400-1526454000@bsbells.com
SUMMARY:Kettlebell Class
DESCRIPTION:
URL:http://bsbells.com/event/kettlebell-class-14-2018-05-16/
LOCATION:511 E Main Street\, Campbellsport\, WI\, 53010\, United States
END:VEVENT
BEGIN:VEVENT
DTSTART;TZID=UTC+0:20180516T160000
DTEND;TZID=UTC+0:20180516T170000
DTSTAMP:20260424T053040
CREATED:20151222T194200Z
LAST-MODIFIED:20151222T194200Z
UID:12844-1526486400-1526490000@bsbells.com
SUMMARY:
DESCRIPTION:[text_divider type="single"]\nText Divider\n[/text_divider]
URL:http://bsbells.com/event/10298-2018-05-16/
LOCATION:511 E Main Street\, Campbellsport\, WI\, 53010\, United States
END:VEVENT
BEGIN:VEVENT
DTSTART;TZID=UTC+0:20180516T170000
DTEND;TZID=UTC+0:20180516T180000
DTSTAMP:20260424T053040
CREATED:20151222T194409Z
LAST-MODIFIED:20151222T194409Z
UID:12843-1526490000-1526493600@bsbells.com
SUMMARY:Kettlebell Class
DESCRIPTION:
URL:http://bsbells.com/event/kettlebell-class-13-2018-05-16/
LOCATION:511 E Main Street\, Campbellsport\, WI\, 53010\, United States
END:VEVENT
END:VCALENDAR