BEGIN:VCALENDAR
VERSION:2.0
PRODID:-//B&#039;s Bells &amp; Bootcamps - ECPv4.4.4//NONSGML v1.0//EN
CALSCALE:GREGORIAN
METHOD:PUBLISH
X-WR-CALNAME:B&#039;s Bells &amp; Bootcamps
X-ORIGINAL-URL:http://bsbells.com
X-WR-CALDESC:Events for B&#039;s Bells &amp; Bootcamps
BEGIN:VEVENT
DTSTART;TZID=UTC+0:20180515T060000
DTEND;TZID=UTC+0:20180515T070000
DTSTAMP:20260424T065650
CREATED:20151222T193714Z
LAST-MODIFIED:20151222T193714Z
UID:12838-1526364000-1526367600@bsbells.com
SUMMARY:Kettlebell Class
DESCRIPTION:
URL:http://bsbells.com/event/kettlebell-class-7-2018-05-15/
LOCATION:511 E Main Street\, Campbellsport\, WI\, 53010\, United States
END:VEVENT
BEGIN:VEVENT
DTSTART;TZID=UTC+0:20180515T060000
DTEND;TZID=UTC+0:20180515T070000
DTSTAMP:20260424T065650
CREATED:20151222T193921Z
LAST-MODIFIED:20151222T193921Z
UID:12840-1526364000-1526367600@bsbells.com
SUMMARY:Kettlebell Class
DESCRIPTION:
URL:http://bsbells.com/event/kettlebell-class-10-2018-05-15/
LOCATION:511 E Main Street\, Campbellsport\, WI\, 53010\, United States
END:VEVENT
BEGIN:VEVENT
DTSTART;TZID=UTC+0:20180515T070000
DTEND;TZID=UTC+0:20180515T080000
DTSTAMP:20260424T065650
CREATED:20151222T193803Z
LAST-MODIFIED:20151222T193803Z
UID:12839-1526367600-1526371200@bsbells.com
SUMMARY:Kettlebell Class
DESCRIPTION:
URL:http://bsbells.com/event/kettlebell-class-8-2018-05-15/
LOCATION:511 E Main Street\, Campbellsport\, WI\, 53010\, United States
END:VEVENT
BEGIN:VEVENT
DTSTART;TZID=UTC+0:20180515T160000
DTEND;TZID=UTC+0:20180515T170000
DTSTAMP:20260424T065650
CREATED:20151222T194120Z
LAST-MODIFIED:20151222T194120Z
UID:12837-1526400000-1526403600@bsbells.com
SUMMARY:Kettlebell Class
DESCRIPTION:
URL:http://bsbells.com/event/kettlebell-class-12-2018-05-15/
LOCATION:511 E Main Street\, Campbellsport\, WI\, 53010\, United States
END:VEVENT
BEGIN:VEVENT
DTSTART;TZID=UTC+0:20180515T170000
DTEND;TZID=UTC+0:20180515T180000
DTSTAMP:20260424T065650
CREATED:20151222T193537Z
LAST-MODIFIED:20151222T193537Z
UID:12836-1526403600-1526407200@bsbells.com
SUMMARY:Kettlebell Class
DESCRIPTION:
URL:http://bsbells.com/event/kettlebell-class-6-2018-05-15/
LOCATION:511 E Main Street\, Campbellsport\, WI\, 53010\, United States
END:VEVENT
END:VCALENDAR