BEGIN:VCALENDAR
VERSION:2.0
PRODID:-//B&#039;s Bells &amp; Bootcamps - ECPv4.4.4//NONSGML v1.0//EN
CALSCALE:GREGORIAN
METHOD:PUBLISH
X-WR-CALNAME:B&#039;s Bells &amp; Bootcamps
X-ORIGINAL-URL:http://bsbells.com
X-WR-CALDESC:Events for B&#039;s Bells &amp; Bootcamps
BEGIN:VEVENT
DTSTART;TZID=UTC+0:20180508T060000
DTEND;TZID=UTC+0:20180508T070000
DTSTAMP:20260424T052950
CREATED:20151222T193714Z
LAST-MODIFIED:20151222T193714Z
UID:12809-1525759200-1525762800@bsbells.com
SUMMARY:Kettlebell Class
DESCRIPTION:
URL:http://bsbells.com/event/kettlebell-class-7-2018-05-08/
LOCATION:511 E Main Street\, Campbellsport\, WI\, 53010\, United States
END:VEVENT
BEGIN:VEVENT
DTSTART;TZID=UTC+0:20180508T060000
DTEND;TZID=UTC+0:20180508T070000
DTSTAMP:20260424T052950
CREATED:20151222T193921Z
LAST-MODIFIED:20151222T193921Z
UID:12811-1525759200-1525762800@bsbells.com
SUMMARY:Kettlebell Class
DESCRIPTION:
URL:http://bsbells.com/event/kettlebell-class-10-2018-05-08/
LOCATION:511 E Main Street\, Campbellsport\, WI\, 53010\, United States
END:VEVENT
BEGIN:VEVENT
DTSTART;TZID=UTC+0:20180508T070000
DTEND;TZID=UTC+0:20180508T080000
DTSTAMP:20260424T052950
CREATED:20151222T193803Z
LAST-MODIFIED:20151222T193803Z
UID:12810-1525762800-1525766400@bsbells.com
SUMMARY:Kettlebell Class
DESCRIPTION:
URL:http://bsbells.com/event/kettlebell-class-8-2018-05-08/
LOCATION:511 E Main Street\, Campbellsport\, WI\, 53010\, United States
END:VEVENT
BEGIN:VEVENT
DTSTART;TZID=UTC+0:20180508T160000
DTEND;TZID=UTC+0:20180508T170000
DTSTAMP:20260424T052950
CREATED:20151222T194120Z
LAST-MODIFIED:20151222T194120Z
UID:12808-1525795200-1525798800@bsbells.com
SUMMARY:Kettlebell Class
DESCRIPTION:
URL:http://bsbells.com/event/kettlebell-class-12-2018-05-08/
LOCATION:511 E Main Street\, Campbellsport\, WI\, 53010\, United States
END:VEVENT
BEGIN:VEVENT
DTSTART;TZID=UTC+0:20180508T170000
DTEND;TZID=UTC+0:20180508T180000
DTSTAMP:20260424T052950
CREATED:20151222T193537Z
LAST-MODIFIED:20151222T193537Z
UID:12807-1525798800-1525802400@bsbells.com
SUMMARY:Kettlebell Class
DESCRIPTION:
URL:http://bsbells.com/event/kettlebell-class-6-2018-05-08/
LOCATION:511 E Main Street\, Campbellsport\, WI\, 53010\, United States
END:VEVENT
END:VCALENDAR