BEGIN:VCALENDAR
VERSION:2.0
PRODID:-//B&#039;s Bells &amp; Bootcamps - ECPv4.4.4//NONSGML v1.0//EN
CALSCALE:GREGORIAN
METHOD:PUBLISH
X-WR-CALNAME:B&#039;s Bells &amp; Bootcamps
X-ORIGINAL-URL:http://bsbells.com
X-WR-CALDESC:Events for B&#039;s Bells &amp; Bootcamps
BEGIN:VEVENT
DTSTART;TZID=UTC+0:20180502T050000
DTEND;TZID=UTC+0:20180502T060000
DTSTAMP:20260424T052951
CREATED:20151222T193134Z
LAST-MODIFIED:20151222T193134Z
UID:12789-1525237200-1525240800@bsbells.com
SUMMARY:Kettlebell Class
DESCRIPTION:
URL:http://bsbells.com/event/kettlebell-class-3-2018-05-02/
LOCATION:511 E Main Street\, Campbellsport\, WI\, 53010\, United States
END:VEVENT
BEGIN:VEVENT
DTSTART;TZID=UTC+0:20180502T050000
DTEND;TZID=UTC+0:20180502T060000
DTSTAMP:20260424T052951
CREATED:20151222T193846Z
LAST-MODIFIED:20151222T193846Z
UID:12793-1525237200-1525240800@bsbells.com
SUMMARY:Kettlebell Class
DESCRIPTION:
URL:http://bsbells.com/event/kettlebell-class-9-2018-05-02/
LOCATION:511 E Main Street\, Campbellsport\, WI\, 53010\, United States
END:VEVENT
BEGIN:VEVENT
DTSTART;TZID=UTC+0:20180502T060000
DTEND;TZID=UTC+0:20180502T070000
DTSTAMP:20260424T052951
CREATED:20151222T194456Z
LAST-MODIFIED:20151222T194456Z
UID:12790-1525240800-1525244400@bsbells.com
SUMMARY:Kettlebell Class
DESCRIPTION:
URL:http://bsbells.com/event/kettlebell-class-14-2018-05-02/
LOCATION:511 E Main Street\, Campbellsport\, WI\, 53010\, United States
END:VEVENT
BEGIN:VEVENT
DTSTART;TZID=UTC+0:20180502T160000
DTEND;TZID=UTC+0:20180502T170000
DTSTAMP:20260424T052951
CREATED:20151222T194200Z
LAST-MODIFIED:20151222T194200Z
UID:12792-1525276800-1525280400@bsbells.com
SUMMARY:
DESCRIPTION:[text_divider type="single"]\nText Divider\n[/text_divider]
URL:http://bsbells.com/event/10298-2018-05-02/
LOCATION:511 E Main Street\, Campbellsport\, WI\, 53010\, United States
END:VEVENT
BEGIN:VEVENT
DTSTART;TZID=UTC+0:20180502T170000
DTEND;TZID=UTC+0:20180502T180000
DTSTAMP:20260424T052951
CREATED:20151222T194409Z
LAST-MODIFIED:20151222T194409Z
UID:12791-1525280400-1525284000@bsbells.com
SUMMARY:Kettlebell Class
DESCRIPTION:
URL:http://bsbells.com/event/kettlebell-class-13-2018-05-02/
LOCATION:511 E Main Street\, Campbellsport\, WI\, 53010\, United States
END:VEVENT
END:VCALENDAR