BEGIN:VCALENDAR
VERSION:2.0
PRODID:-//B&#039;s Bells &amp; Bootcamps - ECPv4.4.4//NONSGML v1.0//EN
CALSCALE:GREGORIAN
METHOD:PUBLISH
X-WR-CALNAME:B&#039;s Bells &amp; Bootcamps
X-ORIGINAL-URL:http://bsbells.com
X-WR-CALDESC:Events for B&#039;s Bells &amp; Bootcamps
BEGIN:VEVENT
DTSTART;TZID=UTC+0:20180405T070000
DTEND;TZID=UTC+0:20180405T080000
DTSTAMP:20260424T065459
CREATED:20151222T194546Z
LAST-MODIFIED:20151222T194546Z
UID:12649-1522911600-1522915200@bsbells.com
SUMMARY:Kettlebell Class
DESCRIPTION:
URL:http://bsbells.com/event/kettlebell-class-15-2018-04-05/
LOCATION:511 E Main Street\, Campbellsport\, WI\, 53010\, United States
END:VEVENT
BEGIN:VEVENT
DTSTART;TZID=UTC+0:20180405T160000
DTEND;TZID=UTC+0:20180405T170000
DTSTAMP:20260424T065459
CREATED:20151222T194810Z
LAST-MODIFIED:20151222T194810Z
UID:12651-1522944000-1522947600@bsbells.com
SUMMARY:Kettlebell Class
DESCRIPTION:
URL:http://bsbells.com/event/kettlebell-class-16-2016-01-28-2018-04-05/
LOCATION:511 E Main Street\, Campbellsport\, WI\, 53010\, United States
END:VEVENT
BEGIN:VEVENT
DTSTART;TZID=UTC+0:20180405T160000
DTEND;TZID=UTC+0:20180405T170000
DTSTAMP:20260424T065459
CREATED:20151222T194810Z
LAST-MODIFIED:20151222T194810Z
UID:12652-1522944000-1522947600@bsbells.com
SUMMARY:Kettlebell Class
DESCRIPTION:
URL:http://bsbells.com/event/kettlebell-class-16-2018-04-05/
LOCATION:511 E Main Street\, Campbellsport\, WI\, 53010\, United States
END:VEVENT
BEGIN:VEVENT
DTSTART;TZID=UTC+0:20180405T170000
DTEND;TZID=UTC+0:20180405T180000
DTSTAMP:20260424T065459
CREATED:20151222T194847Z
LAST-MODIFIED:20151222T194847Z
UID:12650-1522947600-1522951200@bsbells.com
SUMMARY:Kettlebell Class
DESCRIPTION:
URL:http://bsbells.com/event/kettlebell-class-17-2018-04-05/
LOCATION:511 E Main Street\, Campbellsport\, WI\, 53010\, United States
END:VEVENT
END:VCALENDAR