BEGIN:VCALENDAR
VERSION:2.0
PRODID:-//B&#039;s Bells &amp; Bootcamps - ECPv4.4.4//NONSGML v1.0//EN
CALSCALE:GREGORIAN
METHOD:PUBLISH
X-WR-CALNAME:B&#039;s Bells &amp; Bootcamps
X-ORIGINAL-URL:http://bsbells.com
X-WR-CALDESC:Events for B&#039;s Bells &amp; Bootcamps
BEGIN:VEVENT
DTSTART;TZID=UTC+0:20180306T060000
DTEND;TZID=UTC+0:20180306T070000
DTSTAMP:20260424T090516
CREATED:20151222T193714Z
LAST-MODIFIED:20151222T193714Z
UID:12548-1520316000-1520319600@bsbells.com
SUMMARY:Kettlebell Class
DESCRIPTION:
URL:http://bsbells.com/event/kettlebell-class-7-2018-03-06/
LOCATION:511 E Main Street\, Campbellsport\, WI\, 53010\, United States
END:VEVENT
BEGIN:VEVENT
DTSTART;TZID=UTC+0:20180306T060000
DTEND;TZID=UTC+0:20180306T070000
DTSTAMP:20260424T090516
CREATED:20151222T193921Z
LAST-MODIFIED:20151222T193921Z
UID:12550-1520316000-1520319600@bsbells.com
SUMMARY:Kettlebell Class
DESCRIPTION:
URL:http://bsbells.com/event/kettlebell-class-10-2018-03-06/
LOCATION:511 E Main Street\, Campbellsport\, WI\, 53010\, United States
END:VEVENT
BEGIN:VEVENT
DTSTART;TZID=UTC+0:20180306T070000
DTEND;TZID=UTC+0:20180306T080000
DTSTAMP:20260424T090516
CREATED:20151222T193803Z
LAST-MODIFIED:20151222T193803Z
UID:12549-1520319600-1520323200@bsbells.com
SUMMARY:Kettlebell Class
DESCRIPTION:
URL:http://bsbells.com/event/kettlebell-class-8-2018-03-06/
LOCATION:511 E Main Street\, Campbellsport\, WI\, 53010\, United States
END:VEVENT
BEGIN:VEVENT
DTSTART;TZID=UTC+0:20180306T160000
DTEND;TZID=UTC+0:20180306T170000
DTSTAMP:20260424T090516
CREATED:20151222T194120Z
LAST-MODIFIED:20151222T194120Z
UID:12547-1520352000-1520355600@bsbells.com
SUMMARY:Kettlebell Class
DESCRIPTION:
URL:http://bsbells.com/event/kettlebell-class-12-2018-03-06/
LOCATION:511 E Main Street\, Campbellsport\, WI\, 53010\, United States
END:VEVENT
BEGIN:VEVENT
DTSTART;TZID=UTC+0:20180306T170000
DTEND;TZID=UTC+0:20180306T180000
DTSTAMP:20260424T090516
CREATED:20151222T193537Z
LAST-MODIFIED:20151222T193537Z
UID:12546-1520355600-1520359200@bsbells.com
SUMMARY:Kettlebell Class
DESCRIPTION:
URL:http://bsbells.com/event/kettlebell-class-6-2018-03-06/
LOCATION:511 E Main Street\, Campbellsport\, WI\, 53010\, United States
END:VEVENT
END:VCALENDAR