BEGIN:VCALENDAR
VERSION:2.0
PRODID:-//B&#039;s Bells &amp; Bootcamps - ECPv4.4.4//NONSGML v1.0//EN
CALSCALE:GREGORIAN
METHOD:PUBLISH
X-WR-CALNAME:B&#039;s Bells &amp; Bootcamps
X-ORIGINAL-URL:http://bsbells.com
X-WR-CALDESC:Events for B&#039;s Bells &amp; Bootcamps
BEGIN:VEVENT
DTSTART;TZID=UTC+0:20180222T070000
DTEND;TZID=UTC+0:20180222T080000
DTSTAMP:20260424T105310
CREATED:20151222T194546Z
LAST-MODIFIED:20151222T194546Z
UID:12508-1519282800-1519286400@bsbells.com
SUMMARY:Kettlebell Class
DESCRIPTION:
URL:http://bsbells.com/event/kettlebell-class-15-2018-02-22/
LOCATION:511 E Main Street\, Campbellsport\, WI\, 53010\, United States
END:VEVENT
BEGIN:VEVENT
DTSTART;TZID=UTC+0:20180222T160000
DTEND;TZID=UTC+0:20180222T170000
DTSTAMP:20260424T105310
CREATED:20151222T194810Z
LAST-MODIFIED:20151222T194810Z
UID:12510-1519315200-1519318800@bsbells.com
SUMMARY:Kettlebell Class
DESCRIPTION:
URL:http://bsbells.com/event/kettlebell-class-16-2016-01-28-2018-02-22/
LOCATION:511 E Main Street\, Campbellsport\, WI\, 53010\, United States
END:VEVENT
BEGIN:VEVENT
DTSTART;TZID=UTC+0:20180222T160000
DTEND;TZID=UTC+0:20180222T170000
DTSTAMP:20260424T105310
CREATED:20151222T194810Z
LAST-MODIFIED:20151222T194810Z
UID:12511-1519315200-1519318800@bsbells.com
SUMMARY:Kettlebell Class
DESCRIPTION:
URL:http://bsbells.com/event/kettlebell-class-16-2018-02-22/
LOCATION:511 E Main Street\, Campbellsport\, WI\, 53010\, United States
END:VEVENT
BEGIN:VEVENT
DTSTART;TZID=UTC+0:20180222T170000
DTEND;TZID=UTC+0:20180222T180000
DTSTAMP:20260424T105310
CREATED:20151222T194847Z
LAST-MODIFIED:20151222T194847Z
UID:12509-1519318800-1519322400@bsbells.com
SUMMARY:Kettlebell Class
DESCRIPTION:
URL:http://bsbells.com/event/kettlebell-class-17-2018-02-22/
LOCATION:511 E Main Street\, Campbellsport\, WI\, 53010\, United States
END:VEVENT
END:VCALENDAR