BEGIN:VCALENDAR
VERSION:2.0
PRODID:-//B&#039;s Bells &amp; Bootcamps - ECPv4.4.4//NONSGML v1.0//EN
CALSCALE:GREGORIAN
METHOD:PUBLISH
X-WR-CALNAME:B&#039;s Bells &amp; Bootcamps
X-ORIGINAL-URL:http://bsbells.com
X-WR-CALDESC:Events for B&#039;s Bells &amp; Bootcamps
BEGIN:VEVENT
DTSTART;TZID=UTC+0:20180130T060000
DTEND;TZID=UTC+0:20180130T070000
DTSTAMP:20260424T103633
CREATED:20151222T193714Z
LAST-MODIFIED:20151222T193714Z
UID:12421-1517292000-1517295600@bsbells.com
SUMMARY:Kettlebell Class
DESCRIPTION:
URL:http://bsbells.com/event/kettlebell-class-7-2018-01-30/
LOCATION:511 E Main Street\, Campbellsport\, WI\, 53010\, United States
END:VEVENT
BEGIN:VEVENT
DTSTART;TZID=UTC+0:20180130T060000
DTEND;TZID=UTC+0:20180130T070000
DTSTAMP:20260424T103633
CREATED:20151222T193921Z
LAST-MODIFIED:20151222T193921Z
UID:12423-1517292000-1517295600@bsbells.com
SUMMARY:Kettlebell Class
DESCRIPTION:
URL:http://bsbells.com/event/kettlebell-class-10-2018-01-30/
LOCATION:511 E Main Street\, Campbellsport\, WI\, 53010\, United States
END:VEVENT
BEGIN:VEVENT
DTSTART;TZID=UTC+0:20180130T070000
DTEND;TZID=UTC+0:20180130T080000
DTSTAMP:20260424T103633
CREATED:20151222T193803Z
LAST-MODIFIED:20151222T193803Z
UID:12422-1517295600-1517299200@bsbells.com
SUMMARY:Kettlebell Class
DESCRIPTION:
URL:http://bsbells.com/event/kettlebell-class-8-2018-01-30/
LOCATION:511 E Main Street\, Campbellsport\, WI\, 53010\, United States
END:VEVENT
BEGIN:VEVENT
DTSTART;TZID=UTC+0:20180130T160000
DTEND;TZID=UTC+0:20180130T170000
DTSTAMP:20260424T103633
CREATED:20151222T194120Z
LAST-MODIFIED:20151222T194120Z
UID:12420-1517328000-1517331600@bsbells.com
SUMMARY:Kettlebell Class
DESCRIPTION:
URL:http://bsbells.com/event/kettlebell-class-12-2018-01-30/
LOCATION:511 E Main Street\, Campbellsport\, WI\, 53010\, United States
END:VEVENT
BEGIN:VEVENT
DTSTART;TZID=UTC+0:20180130T170000
DTEND;TZID=UTC+0:20180130T180000
DTSTAMP:20260424T103633
CREATED:20151222T193537Z
LAST-MODIFIED:20151222T193537Z
UID:12419-1517331600-1517335200@bsbells.com
SUMMARY:Kettlebell Class
DESCRIPTION:
URL:http://bsbells.com/event/kettlebell-class-6-2018-01-30/
LOCATION:511 E Main Street\, Campbellsport\, WI\, 53010\, United States
END:VEVENT
END:VCALENDAR