BEGIN:VCALENDAR
VERSION:2.0
PRODID:-//B&#039;s Bells &amp; Bootcamps - ECPv4.4.4//NONSGML v1.0//EN
CALSCALE:GREGORIAN
METHOD:PUBLISH
X-WR-CALNAME:B&#039;s Bells &amp; Bootcamps
X-ORIGINAL-URL:http://bsbells.com
X-WR-CALDESC:Events for B&#039;s Bells &amp; Bootcamps
BEGIN:VEVENT
DTSTART;TZID=UTC+0:20180117T050000
DTEND;TZID=UTC+0:20180117T060000
DTSTAMP:20260424T122007
CREATED:20151222T193134Z
LAST-MODIFIED:20151222T193134Z
UID:12156-1516165200-1516168800@bsbells.com
SUMMARY:Kettlebell Class
DESCRIPTION:
URL:http://bsbells.com/event/kettlebell-class-3-2018-01-17/
LOCATION:511 E Main Street\, Campbellsport\, WI\, 53010\, United States
END:VEVENT
BEGIN:VEVENT
DTSTART;TZID=UTC+0:20180117T050000
DTEND;TZID=UTC+0:20180117T060000
DTSTAMP:20260424T122007
CREATED:20151222T193846Z
LAST-MODIFIED:20151222T193846Z
UID:12160-1516165200-1516168800@bsbells.com
SUMMARY:Kettlebell Class
DESCRIPTION:
URL:http://bsbells.com/event/kettlebell-class-9-2018-01-17/
LOCATION:511 E Main Street\, Campbellsport\, WI\, 53010\, United States
END:VEVENT
BEGIN:VEVENT
DTSTART;TZID=UTC+0:20180117T060000
DTEND;TZID=UTC+0:20180117T070000
DTSTAMP:20260424T122007
CREATED:20151222T194456Z
LAST-MODIFIED:20151222T194456Z
UID:12157-1516168800-1516172400@bsbells.com
SUMMARY:Kettlebell Class
DESCRIPTION:
URL:http://bsbells.com/event/kettlebell-class-14-2018-01-17/
LOCATION:511 E Main Street\, Campbellsport\, WI\, 53010\, United States
END:VEVENT
BEGIN:VEVENT
DTSTART;TZID=UTC+0:20180117T160000
DTEND;TZID=UTC+0:20180117T170000
DTSTAMP:20260424T122007
CREATED:20151222T194200Z
LAST-MODIFIED:20151222T194200Z
UID:12159-1516204800-1516208400@bsbells.com
SUMMARY:
DESCRIPTION:[text_divider type="single"]\nText Divider\n[/text_divider]
URL:http://bsbells.com/event/10298-2018-01-17/
LOCATION:511 E Main Street\, Campbellsport\, WI\, 53010\, United States
END:VEVENT
BEGIN:VEVENT
DTSTART;TZID=UTC+0:20180117T170000
DTEND;TZID=UTC+0:20180117T180000
DTSTAMP:20260424T122007
CREATED:20151222T194409Z
LAST-MODIFIED:20151222T194409Z
UID:12158-1516208400-1516212000@bsbells.com
SUMMARY:Kettlebell Class
DESCRIPTION:
URL:http://bsbells.com/event/kettlebell-class-13-2018-01-17/
LOCATION:511 E Main Street\, Campbellsport\, WI\, 53010\, United States
END:VEVENT
END:VCALENDAR