BEGIN:VCALENDAR
VERSION:2.0
PRODID:-//B&#039;s Bells &amp; Bootcamps - ECPv4.4.4//NONSGML v1.0//EN
CALSCALE:GREGORIAN
METHOD:PUBLISH
X-WR-CALNAME:B&#039;s Bells &amp; Bootcamps
X-ORIGINAL-URL:http://bsbells.com
X-WR-CALDESC:Events for B&#039;s Bells &amp; Bootcamps
BEGIN:VEVENT
DTSTART;TZID=UTC+0:20180110T050000
DTEND;TZID=UTC+0:20180110T060000
DTSTAMP:20260424T122041
CREATED:20151222T193134Z
LAST-MODIFIED:20151222T193134Z
UID:12131-1515560400-1515564000@bsbells.com
SUMMARY:Kettlebell Class
DESCRIPTION:
URL:http://bsbells.com/event/kettlebell-class-3-2018-01-10/
LOCATION:511 E Main Street\, Campbellsport\, WI\, 53010\, United States
END:VEVENT
BEGIN:VEVENT
DTSTART;TZID=UTC+0:20180110T050000
DTEND;TZID=UTC+0:20180110T060000
DTSTAMP:20260424T122041
CREATED:20151222T193846Z
LAST-MODIFIED:20151222T193846Z
UID:12135-1515560400-1515564000@bsbells.com
SUMMARY:Kettlebell Class
DESCRIPTION:
URL:http://bsbells.com/event/kettlebell-class-9-2018-01-10/
LOCATION:511 E Main Street\, Campbellsport\, WI\, 53010\, United States
END:VEVENT
BEGIN:VEVENT
DTSTART;TZID=UTC+0:20180110T060000
DTEND;TZID=UTC+0:20180110T070000
DTSTAMP:20260424T122041
CREATED:20151222T194456Z
LAST-MODIFIED:20151222T194456Z
UID:12132-1515564000-1515567600@bsbells.com
SUMMARY:Kettlebell Class
DESCRIPTION:
URL:http://bsbells.com/event/kettlebell-class-14-2018-01-10/
LOCATION:511 E Main Street\, Campbellsport\, WI\, 53010\, United States
END:VEVENT
BEGIN:VEVENT
DTSTART;TZID=UTC+0:20180110T160000
DTEND;TZID=UTC+0:20180110T170000
DTSTAMP:20260424T122041
CREATED:20151222T194200Z
LAST-MODIFIED:20151222T194200Z
UID:12134-1515600000-1515603600@bsbells.com
SUMMARY:
DESCRIPTION:[text_divider type="single"]\nText Divider\n[/text_divider]
URL:http://bsbells.com/event/10298-2018-01-10/
LOCATION:511 E Main Street\, Campbellsport\, WI\, 53010\, United States
END:VEVENT
BEGIN:VEVENT
DTSTART;TZID=UTC+0:20180110T170000
DTEND;TZID=UTC+0:20180110T180000
DTSTAMP:20260424T122041
CREATED:20151222T194409Z
LAST-MODIFIED:20151222T194409Z
UID:12133-1515603600-1515607200@bsbells.com
SUMMARY:Kettlebell Class
DESCRIPTION:
URL:http://bsbells.com/event/kettlebell-class-13-2018-01-10/
LOCATION:511 E Main Street\, Campbellsport\, WI\, 53010\, United States
END:VEVENT
END:VCALENDAR