BEGIN:VCALENDAR
VERSION:2.0
PRODID:-//B&#039;s Bells &amp; Bootcamps - ECPv4.4.4//NONSGML v1.0//EN
CALSCALE:GREGORIAN
METHOD:PUBLISH
X-WR-CALNAME:B&#039;s Bells &amp; Bootcamps
X-ORIGINAL-URL:http://bsbells.com
X-WR-CALDESC:Events for B&#039;s Bells &amp; Bootcamps
BEGIN:VEVENT
DTSTART;TZID=UTC+0:20171227T050000
DTEND;TZID=UTC+0:20171227T060000
DTSTAMP:20260424T140135
CREATED:20151222T193134Z
LAST-MODIFIED:20151222T193134Z
UID:12087-1514350800-1514354400@bsbells.com
SUMMARY:Kettlebell Class
DESCRIPTION:
URL:http://bsbells.com/event/kettlebell-class-3-2017-12-27/
LOCATION:511 E Main Street\, Campbellsport\, WI\, 53010\, United States
END:VEVENT
BEGIN:VEVENT
DTSTART;TZID=UTC+0:20171227T050000
DTEND;TZID=UTC+0:20171227T060000
DTSTAMP:20260424T140136
CREATED:20151222T193846Z
LAST-MODIFIED:20151222T193846Z
UID:12091-1514350800-1514354400@bsbells.com
SUMMARY:Kettlebell Class
DESCRIPTION:
URL:http://bsbells.com/event/kettlebell-class-9-2017-12-27/
LOCATION:511 E Main Street\, Campbellsport\, WI\, 53010\, United States
END:VEVENT
BEGIN:VEVENT
DTSTART;TZID=UTC+0:20171227T060000
DTEND;TZID=UTC+0:20171227T070000
DTSTAMP:20260424T140136
CREATED:20151222T194456Z
LAST-MODIFIED:20151222T194456Z
UID:12088-1514354400-1514358000@bsbells.com
SUMMARY:Kettlebell Class
DESCRIPTION:
URL:http://bsbells.com/event/kettlebell-class-14-2017-12-27/
LOCATION:511 E Main Street\, Campbellsport\, WI\, 53010\, United States
END:VEVENT
BEGIN:VEVENT
DTSTART;TZID=UTC+0:20171227T160000
DTEND;TZID=UTC+0:20171227T170000
DTSTAMP:20260424T140136
CREATED:20151222T194200Z
LAST-MODIFIED:20151222T194200Z
UID:12090-1514390400-1514394000@bsbells.com
SUMMARY:
DESCRIPTION:[text_divider type="single"]\nText Divider\n[/text_divider]
URL:http://bsbells.com/event/10298-2017-12-27/
LOCATION:511 E Main Street\, Campbellsport\, WI\, 53010\, United States
END:VEVENT
BEGIN:VEVENT
DTSTART;TZID=UTC+0:20171227T170000
DTEND;TZID=UTC+0:20171227T180000
DTSTAMP:20260424T140136
CREATED:20151222T194409Z
LAST-MODIFIED:20151222T194409Z
UID:12089-1514394000-1514397600@bsbells.com
SUMMARY:Kettlebell Class
DESCRIPTION:
URL:http://bsbells.com/event/kettlebell-class-13-2017-12-27/
LOCATION:511 E Main Street\, Campbellsport\, WI\, 53010\, United States
END:VEVENT
END:VCALENDAR