BEGIN:VCALENDAR
VERSION:2.0
PRODID:-//B&#039;s Bells &amp; Bootcamps - ECPv4.4.4//NONSGML v1.0//EN
CALSCALE:GREGORIAN
METHOD:PUBLISH
X-WR-CALNAME:B&#039;s Bells &amp; Bootcamps
X-ORIGINAL-URL:http://bsbells.com
X-WR-CALDESC:Events for B&#039;s Bells &amp; Bootcamps
BEGIN:VEVENT
DTSTART;TZID=UTC+0:20171226T060000
DTEND;TZID=UTC+0:20171226T070000
DTSTAMP:20260424T140136
CREATED:20151222T193714Z
LAST-MODIFIED:20151222T193714Z
UID:12084-1514268000-1514271600@bsbells.com
SUMMARY:Kettlebell Class
DESCRIPTION:
URL:http://bsbells.com/event/kettlebell-class-7-2017-12-26/
LOCATION:511 E Main Street\, Campbellsport\, WI\, 53010\, United States
END:VEVENT
BEGIN:VEVENT
DTSTART;TZID=UTC+0:20171226T060000
DTEND;TZID=UTC+0:20171226T070000
DTSTAMP:20260424T140136
CREATED:20151222T193921Z
LAST-MODIFIED:20151222T193921Z
UID:12086-1514268000-1514271600@bsbells.com
SUMMARY:Kettlebell Class
DESCRIPTION:
URL:http://bsbells.com/event/kettlebell-class-10-2017-12-26/
LOCATION:511 E Main Street\, Campbellsport\, WI\, 53010\, United States
END:VEVENT
BEGIN:VEVENT
DTSTART;TZID=UTC+0:20171226T070000
DTEND;TZID=UTC+0:20171226T080000
DTSTAMP:20260424T140136
CREATED:20151222T193803Z
LAST-MODIFIED:20151222T193803Z
UID:12085-1514271600-1514275200@bsbells.com
SUMMARY:Kettlebell Class
DESCRIPTION:
URL:http://bsbells.com/event/kettlebell-class-8-2017-12-26/
LOCATION:511 E Main Street\, Campbellsport\, WI\, 53010\, United States
END:VEVENT
BEGIN:VEVENT
DTSTART;TZID=UTC+0:20171226T160000
DTEND;TZID=UTC+0:20171226T170000
DTSTAMP:20260424T140136
CREATED:20151222T194120Z
LAST-MODIFIED:20151222T194120Z
UID:12083-1514304000-1514307600@bsbells.com
SUMMARY:Kettlebell Class
DESCRIPTION:
URL:http://bsbells.com/event/kettlebell-class-12-2017-12-26/
LOCATION:511 E Main Street\, Campbellsport\, WI\, 53010\, United States
END:VEVENT
BEGIN:VEVENT
DTSTART;TZID=UTC+0:20171226T170000
DTEND;TZID=UTC+0:20171226T180000
DTSTAMP:20260424T140136
CREATED:20151222T193537Z
LAST-MODIFIED:20151222T193537Z
UID:12082-1514307600-1514311200@bsbells.com
SUMMARY:Kettlebell Class
DESCRIPTION:
URL:http://bsbells.com/event/kettlebell-class-6-2017-12-26/
LOCATION:511 E Main Street\, Campbellsport\, WI\, 53010\, United States
END:VEVENT
END:VCALENDAR