BEGIN:VCALENDAR
VERSION:2.0
PRODID:-//B&#039;s Bells &amp; Bootcamps - ECPv4.4.4//NONSGML v1.0//EN
CALSCALE:GREGORIAN
METHOD:PUBLISH
X-WR-CALNAME:B&#039;s Bells &amp; Bootcamps
X-ORIGINAL-URL:http://bsbells.com
X-WR-CALDESC:Events for B&#039;s Bells &amp; Bootcamps
BEGIN:VEVENT
DTSTART;TZID=UTC+0:20171205T060000
DTEND;TZID=UTC+0:20171205T070000
DTSTAMP:20260424T141559
CREATED:20151222T193714Z
LAST-MODIFIED:20151222T193714Z
UID:11793-1512453600-1512457200@bsbells.com
SUMMARY:Kettlebell Class
DESCRIPTION:
URL:http://bsbells.com/event/kettlebell-class-7-2017-12-05/
LOCATION:511 E Main Street\, Campbellsport\, WI\, 53010\, United States
END:VEVENT
BEGIN:VEVENT
DTSTART;TZID=UTC+0:20171205T060000
DTEND;TZID=UTC+0:20171205T070000
DTSTAMP:20260424T141559
CREATED:20151222T193921Z
LAST-MODIFIED:20151222T193921Z
UID:11544-1512453600-1512457200@bsbells.com
SUMMARY:Kettlebell Class
DESCRIPTION:
URL:http://bsbells.com/event/kettlebell-class-10-2017-12-05/
LOCATION:511 E Main Street\, Campbellsport\, WI\, 53010\, United States
END:VEVENT
BEGIN:VEVENT
DTSTART;TZID=UTC+0:20171205T070000
DTEND;TZID=UTC+0:20171205T080000
DTSTAMP:20260424T141559
CREATED:20151222T193803Z
LAST-MODIFIED:20151222T193803Z
UID:11710-1512457200-1512460800@bsbells.com
SUMMARY:Kettlebell Class
DESCRIPTION:
URL:http://bsbells.com/event/kettlebell-class-8-2017-12-05/
LOCATION:511 E Main Street\, Campbellsport\, WI\, 53010\, United States
END:VEVENT
BEGIN:VEVENT
DTSTART;TZID=UTC+0:20171205T160000
DTEND;TZID=UTC+0:20171205T170000
DTSTAMP:20260424T141559
CREATED:20151222T194120Z
LAST-MODIFIED:20151222T194120Z
UID:11460-1512489600-1512493200@bsbells.com
SUMMARY:Kettlebell Class
DESCRIPTION:
URL:http://bsbells.com/event/kettlebell-class-12-2017-12-05/
LOCATION:511 E Main Street\, Campbellsport\, WI\, 53010\, United States
END:VEVENT
BEGIN:VEVENT
DTSTART;TZID=UTC+0:20171205T170000
DTEND;TZID=UTC+0:20171205T180000
DTSTAMP:20260424T141559
CREATED:20151222T193537Z
LAST-MODIFIED:20151222T193537Z
UID:11797-1512493200-1512496800@bsbells.com
SUMMARY:Kettlebell Class
DESCRIPTION:
URL:http://bsbells.com/event/kettlebell-class-6-2017-12-05/
LOCATION:511 E Main Street\, Campbellsport\, WI\, 53010\, United States
END:VEVENT
END:VCALENDAR