BEGIN:VCALENDAR
VERSION:2.0
PRODID:-//B&#039;s Bells &amp; Bootcamps - ECPv4.4.4//NONSGML v1.0//EN
CALSCALE:GREGORIAN
METHOD:PUBLISH
X-WR-CALNAME:B&#039;s Bells &amp; Bootcamps
X-ORIGINAL-URL:http://bsbells.com
X-WR-CALDESC:Events for B&#039;s Bells &amp; Bootcamps
BEGIN:VEVENT
DTSTART;TZID=UTC+0:20171129T050000
DTEND;TZID=UTC+0:20171129T060000
DTSTAMP:20260424T140008
CREATED:20151222T193134Z
LAST-MODIFIED:20151222T193134Z
UID:12058-1511931600-1511935200@bsbells.com
SUMMARY:Kettlebell Class
DESCRIPTION:
URL:http://bsbells.com/event/kettlebell-class-3-2017-11-29/
LOCATION:511 E Main Street\, Campbellsport\, WI\, 53010\, United States
END:VEVENT
BEGIN:VEVENT
DTSTART;TZID=UTC+0:20171129T050000
DTEND;TZID=UTC+0:20171129T060000
DTSTAMP:20260424T140008
CREATED:20151222T193846Z
LAST-MODIFIED:20151222T193846Z
UID:11626-1511931600-1511935200@bsbells.com
SUMMARY:Kettlebell Class
DESCRIPTION:
URL:http://bsbells.com/event/kettlebell-class-9-2017-11-29/
LOCATION:511 E Main Street\, Campbellsport\, WI\, 53010\, United States
END:VEVENT
BEGIN:VEVENT
DTSTART;TZID=UTC+0:20171129T060000
DTEND;TZID=UTC+0:20171129T070000
DTSTAMP:20260424T140008
CREATED:20151222T194456Z
LAST-MODIFIED:20151222T194456Z
UID:11219-1511935200-1511938800@bsbells.com
SUMMARY:Kettlebell Class
DESCRIPTION:
URL:http://bsbells.com/event/kettlebell-class-14-2017-11-29/
LOCATION:511 E Main Street\, Campbellsport\, WI\, 53010\, United States
END:VEVENT
BEGIN:VEVENT
DTSTART;TZID=UTC+0:20171129T160000
DTEND;TZID=UTC+0:20171129T170000
DTSTAMP:20260424T140008
CREATED:20151222T194200Z
LAST-MODIFIED:20151222T194200Z
UID:11385-1511971200-1511974800@bsbells.com
SUMMARY:
DESCRIPTION:[text_divider type="single"]\nText Divider\n[/text_divider]
URL:http://bsbells.com/event/10298-2017-11-29/
LOCATION:511 E Main Street\, Campbellsport\, WI\, 53010\, United States
END:VEVENT
BEGIN:VEVENT
DTSTART;TZID=UTC+0:20171129T170000
DTEND;TZID=UTC+0:20171129T180000
DTSTAMP:20260424T140008
CREATED:20151222T194409Z
LAST-MODIFIED:20151222T194409Z
UID:11302-1511974800-1511978400@bsbells.com
SUMMARY:Kettlebell Class
DESCRIPTION:
URL:http://bsbells.com/event/kettlebell-class-13-2017-11-29/
LOCATION:511 E Main Street\, Campbellsport\, WI\, 53010\, United States
END:VEVENT
END:VCALENDAR