BEGIN:VCALENDAR
VERSION:2.0
PRODID:-//B&#039;s Bells &amp; Bootcamps - ECPv4.4.4//NONSGML v1.0//EN
CALSCALE:GREGORIAN
METHOD:PUBLISH
X-WR-CALNAME:B&#039;s Bells &amp; Bootcamps
X-ORIGINAL-URL:http://bsbells.com
X-WR-CALDESC:Events for B&#039;s Bells &amp; Bootcamps
BEGIN:VEVENT
DTSTART;TZID=UTC+0:20171128T060000
DTEND;TZID=UTC+0:20171128T070000
DTSTAMP:20260424T135149
CREATED:20151222T193714Z
LAST-MODIFIED:20151222T193714Z
UID:11792-1511848800-1511852400@bsbells.com
SUMMARY:Kettlebell Class
DESCRIPTION:
URL:http://bsbells.com/event/kettlebell-class-7-2017-11-28/
LOCATION:511 E Main Street\, Campbellsport\, WI\, 53010\, United States
END:VEVENT
BEGIN:VEVENT
DTSTART;TZID=UTC+0:20171128T060000
DTEND;TZID=UTC+0:20171128T070000
DTSTAMP:20260424T135149
CREATED:20151222T193921Z
LAST-MODIFIED:20151222T193921Z
UID:11543-1511848800-1511852400@bsbells.com
SUMMARY:Kettlebell Class
DESCRIPTION:
URL:http://bsbells.com/event/kettlebell-class-10-2017-11-28/
LOCATION:511 E Main Street\, Campbellsport\, WI\, 53010\, United States
END:VEVENT
BEGIN:VEVENT
DTSTART;TZID=UTC+0:20171128T070000
DTEND;TZID=UTC+0:20171128T080000
DTSTAMP:20260424T135149
CREATED:20151222T193803Z
LAST-MODIFIED:20151222T193803Z
UID:11709-1511852400-1511856000@bsbells.com
SUMMARY:Kettlebell Class
DESCRIPTION:
URL:http://bsbells.com/event/kettlebell-class-8-2017-11-28/
LOCATION:511 E Main Street\, Campbellsport\, WI\, 53010\, United States
END:VEVENT
BEGIN:VEVENT
DTSTART;TZID=UTC+0:20171128T160000
DTEND;TZID=UTC+0:20171128T170000
DTSTAMP:20260424T135149
CREATED:20151222T194120Z
LAST-MODIFIED:20151222T194120Z
UID:11459-1511884800-1511888400@bsbells.com
SUMMARY:Kettlebell Class
DESCRIPTION:
URL:http://bsbells.com/event/kettlebell-class-12-2017-11-28/
LOCATION:511 E Main Street\, Campbellsport\, WI\, 53010\, United States
END:VEVENT
BEGIN:VEVENT
DTSTART;TZID=UTC+0:20171128T170000
DTEND;TZID=UTC+0:20171128T180000
DTSTAMP:20260424T135149
CREATED:20151222T193537Z
LAST-MODIFIED:20151222T193537Z
UID:11796-1511888400-1511892000@bsbells.com
SUMMARY:Kettlebell Class
DESCRIPTION:
URL:http://bsbells.com/event/kettlebell-class-6-2017-11-28/
LOCATION:511 E Main Street\, Campbellsport\, WI\, 53010\, United States
END:VEVENT
END:VCALENDAR