BEGIN:VCALENDAR
VERSION:2.0
PRODID:-//B&#039;s Bells &amp; Bootcamps - ECPv4.4.4//NONSGML v1.0//EN
CALSCALE:GREGORIAN
METHOD:PUBLISH
X-WR-CALNAME:B&#039;s Bells &amp; Bootcamps
X-ORIGINAL-URL:http://bsbells.com
X-WR-CALDESC:Events for B&#039;s Bells &amp; Bootcamps
BEGIN:VEVENT
DTSTART;TZID=UTC+0:20171116T070000
DTEND;TZID=UTC+0:20171116T080000
DTSTAMP:20260424T155628
CREATED:20151222T194546Z
LAST-MODIFIED:20151222T194546Z
UID:11134-1510815600-1510819200@bsbells.com
SUMMARY:Kettlebell Class
DESCRIPTION:
URL:http://bsbells.com/event/kettlebell-class-15-2017-11-16/
LOCATION:511 E Main Street\, Campbellsport\, WI\, 53010\, United States
END:VEVENT
BEGIN:VEVENT
DTSTART;TZID=UTC+0:20171116T160000
DTEND;TZID=UTC+0:20171116T170000
DTSTAMP:20260424T155628
CREATED:20151222T194810Z
LAST-MODIFIED:20160128T084014Z
UID:11081-1510848000-1510851600@bsbells.com
SUMMARY:Kettlebell Class
DESCRIPTION:
URL:http://bsbells.com/event/kettlebell-class-16-2016-01-28-2017-11-16/
LOCATION:511 E Main Street\, Campbellsport\, WI\, 53010\, United States
END:VEVENT
BEGIN:VEVENT
DTSTART;TZID=UTC+0:20171116T170000
DTEND;TZID=UTC+0:20171116T180000
DTSTAMP:20260424T155628
CREATED:20151222T194847Z
LAST-MODIFIED:20151222T194847Z
UID:10568-1510851600-1510855200@bsbells.com
SUMMARY:Kettlebell Class
DESCRIPTION:
URL:http://bsbells.com/event/kettlebell-class-17-2017-11-16/
LOCATION:511 E Main Street\, Campbellsport\, WI\, 53010\, United States
END:VEVENT
END:VCALENDAR