BEGIN:VCALENDAR
VERSION:2.0
PRODID:-//B&#039;s Bells &amp; Bootcamps - ECPv4.4.4//NONSGML v1.0//EN
CALSCALE:GREGORIAN
METHOD:PUBLISH
X-WR-CALNAME:B&#039;s Bells &amp; Bootcamps
X-ORIGINAL-URL:http://bsbells.com
X-WR-CALDESC:Events for B&#039;s Bells &amp; Bootcamps
BEGIN:VEVENT
DTSTART;TZID=UTC+0:20171010T060000
DTEND;TZID=UTC+0:20171010T070000
DTSTAMP:20260424T172757
CREATED:20151222T193714Z
LAST-MODIFIED:20151222T193714Z
UID:11785-1507615200-1507618800@bsbells.com
SUMMARY:Kettlebell Class
DESCRIPTION:
URL:http://bsbells.com/event/kettlebell-class-7-2017-10-10/
LOCATION:511 E Main Street\, Campbellsport\, WI\, 53010\, United States
END:VEVENT
BEGIN:VEVENT
DTSTART;TZID=UTC+0:20171010T060000
DTEND;TZID=UTC+0:20171010T070000
DTSTAMP:20260424T172757
CREATED:20151222T193921Z
LAST-MODIFIED:20151222T193921Z
UID:11536-1507615200-1507618800@bsbells.com
SUMMARY:Kettlebell Class
DESCRIPTION:
URL:http://bsbells.com/event/kettlebell-class-10-2017-10-10/
LOCATION:511 E Main Street\, Campbellsport\, WI\, 53010\, United States
END:VEVENT
BEGIN:VEVENT
DTSTART;TZID=UTC+0:20171010T070000
DTEND;TZID=UTC+0:20171010T080000
DTSTAMP:20260424T172757
CREATED:20151222T193803Z
LAST-MODIFIED:20151222T193803Z
UID:11702-1507618800-1507622400@bsbells.com
SUMMARY:Kettlebell Class
DESCRIPTION:
URL:http://bsbells.com/event/kettlebell-class-8-2017-10-10/
LOCATION:511 E Main Street\, Campbellsport\, WI\, 53010\, United States
END:VEVENT
BEGIN:VEVENT
DTSTART;TZID=UTC+0:20171010T160000
DTEND;TZID=UTC+0:20171010T170000
DTSTAMP:20260424T172757
CREATED:20151222T194120Z
LAST-MODIFIED:20151222T194120Z
UID:11452-1507651200-1507654800@bsbells.com
SUMMARY:Kettlebell Class
DESCRIPTION:
URL:http://bsbells.com/event/kettlebell-class-12-2017-10-10/
LOCATION:511 E Main Street\, Campbellsport\, WI\, 53010\, United States
END:VEVENT
BEGIN:VEVENT
DTSTART;TZID=UTC+0:20171010T170000
DTEND;TZID=UTC+0:20171010T180000
DTSTAMP:20260424T172757
CREATED:20151222T193537Z
LAST-MODIFIED:20151222T193537Z
UID:10196-1507654800-1507658400@bsbells.com
SUMMARY:Kettlebell Class
DESCRIPTION:
URL:http://bsbells.com/event/kettlebell-class-6-2017-10-10/
LOCATION:511 E Main Street\, Campbellsport\, WI\, 53010\, United States
END:VEVENT
END:VCALENDAR