BEGIN:VCALENDAR
VERSION:2.0
PRODID:-//B&#039;s Bells &amp; Bootcamps - ECPv4.4.4//NONSGML v1.0//EN
CALSCALE:GREGORIAN
METHOD:PUBLISH
X-WR-CALNAME:B&#039;s Bells &amp; Bootcamps
X-ORIGINAL-URL:http://bsbells.com
X-WR-CALDESC:Events for B&#039;s Bells &amp; Bootcamps
BEGIN:VEVENT
DTSTART;TZID=UTC+0:20171009T050000
DTEND;TZID=UTC+0:20171009T060000
DTSTAMP:20260424T191246
CREATED:20151222T192826Z
LAST-MODIFIED:20151222T192826Z
UID:9850-1507525200-1507528800@bsbells.com
SUMMARY:Kettlebell Class
DESCRIPTION:
URL:http://bsbells.com/event/kettlebell-class-2-2017-10-09/
LOCATION:511 E Main Street\, Campbellsport\, WI\, 53010\, United States
END:VEVENT
BEGIN:VEVENT
DTSTART;TZID=UTC+0:20171009T090000
DTEND;TZID=UTC+0:20171009T100000
DTSTAMP:20260424T191246
CREATED:20151222T193245Z
LAST-MODIFIED:20151222T193245Z
UID:11948-1507539600-1507543200@bsbells.com
SUMMARY:Kettlebell Class
DESCRIPTION:
URL:http://bsbells.com/event/kettlebell-class-4-2017-10-09/
LOCATION:511 E Main Street\, Campbellsport\, WI\, 53010\, United States
END:VEVENT
BEGIN:VEVENT
DTSTART;TZID=UTC+0:20171009T090000
DTEND;TZID=UTC+0:20171009T100000
DTSTAMP:20260424T191246
CREATED:20151222T195029Z
LAST-MODIFIED:20160904T003902Z
UID:13376-1507539600-1507543200@bsbells.com
SUMMARY:Kettlebell Class
DESCRIPTION:Kettlebell Class\n*Must take Essentials Class prior to starting this class\n
URL:http://bsbells.com/event/kettlebell-class-19-2017-10-09/
LOCATION:511 E Main Street\, Campbellsport\, WI\, 53010\, United States
END:VEVENT
BEGIN:VEVENT
DTSTART;TZID=UTC+0:20171009T160000
DTEND;TZID=UTC+0:20171009T170000
DTSTAMP:20260424T191246
CREATED:20151222T193405Z
LAST-MODIFIED:20151222T193405Z
UID:11862-1507564800-1507568400@bsbells.com
SUMMARY:Kettlebell Class
DESCRIPTION:
URL:http://bsbells.com/event/kettlebell-class-5-2017-10-09/
LOCATION:511 E Main Street\, Campbellsport\, WI\, 53010\, United States
END:VEVENT
END:VCALENDAR