BEGIN:VCALENDAR
VERSION:2.0
PRODID:-//B&#039;s Bells &amp; Bootcamps - ECPv4.4.4//NONSGML v1.0//EN
CALSCALE:GREGORIAN
METHOD:PUBLISH
X-WR-CALNAME:B&#039;s Bells &amp; Bootcamps
X-ORIGINAL-URL:http://bsbells.com
X-WR-CALDESC:Events for B&#039;s Bells &amp; Bootcamps
BEGIN:VEVENT
DTSTART;TZID=UTC+0:20171005T070000
DTEND;TZID=UTC+0:20171005T080000
DTSTAMP:20260424T172759
CREATED:20151222T194546Z
LAST-MODIFIED:20151222T194546Z
UID:11128-1507186800-1507190400@bsbells.com
SUMMARY:Kettlebell Class
DESCRIPTION:
URL:http://bsbells.com/event/kettlebell-class-15-2017-10-05/
LOCATION:511 E Main Street\, Campbellsport\, WI\, 53010\, United States
END:VEVENT
BEGIN:VEVENT
DTSTART;TZID=UTC+0:20171005T160000
DTEND;TZID=UTC+0:20171005T170000
DTSTAMP:20260424T172759
CREATED:20151222T194810Z
LAST-MODIFIED:20160128T084012Z
UID:11075-1507219200-1507222800@bsbells.com
SUMMARY:Kettlebell Class
DESCRIPTION:
URL:http://bsbells.com/event/kettlebell-class-16-2016-01-28-2017-10-05/
LOCATION:511 E Main Street\, Campbellsport\, WI\, 53010\, United States
END:VEVENT
BEGIN:VEVENT
DTSTART;TZID=UTC+0:20171005T170000
DTEND;TZID=UTC+0:20171005T180000
DTSTAMP:20260424T172759
CREATED:20151222T194847Z
LAST-MODIFIED:20151222T194847Z
UID:10562-1507222800-1507226400@bsbells.com
SUMMARY:Kettlebell Class
DESCRIPTION:
URL:http://bsbells.com/event/kettlebell-class-17-2017-10-05/
LOCATION:511 E Main Street\, Campbellsport\, WI\, 53010\, United States
END:VEVENT
END:VCALENDAR