BEGIN:VCALENDAR
VERSION:2.0
PRODID:-//B&#039;s Bells &amp; Bootcamps - ECPv4.4.4//NONSGML v1.0//EN
CALSCALE:GREGORIAN
METHOD:PUBLISH
X-WR-CALNAME:B&#039;s Bells &amp; Bootcamps
X-ORIGINAL-URL:http://bsbells.com
X-WR-CALDESC:Events for B&#039;s Bells &amp; Bootcamps
BEGIN:VEVENT
DTSTART;TZID=UTC+0:20171002T050000
DTEND;TZID=UTC+0:20171002T060000
DTSTAMP:20260424T172729
CREATED:20151222T192826Z
LAST-MODIFIED:20151222T192826Z
UID:9849-1506920400-1506924000@bsbells.com
SUMMARY:Kettlebell Class
DESCRIPTION:
URL:http://bsbells.com/event/kettlebell-class-2-2017-10-02/
LOCATION:511 E Main Street\, Campbellsport\, WI\, 53010\, United States
END:VEVENT
BEGIN:VEVENT
DTSTART;TZID=UTC+0:20171002T090000
DTEND;TZID=UTC+0:20171002T100000
DTSTAMP:20260424T172729
CREATED:20151222T193245Z
LAST-MODIFIED:20151222T193245Z
UID:11947-1506934800-1506938400@bsbells.com
SUMMARY:Kettlebell Class
DESCRIPTION:
URL:http://bsbells.com/event/kettlebell-class-4-2017-10-02/
LOCATION:511 E Main Street\, Campbellsport\, WI\, 53010\, United States
END:VEVENT
BEGIN:VEVENT
DTSTART;TZID=UTC+0:20171002T090000
DTEND;TZID=UTC+0:20171002T100000
DTSTAMP:20260424T172729
CREATED:20151222T195029Z
LAST-MODIFIED:20160904T003902Z
UID:13375-1506934800-1506938400@bsbells.com
SUMMARY:Kettlebell Class
DESCRIPTION:Kettlebell Class\n*Must take Essentials Class prior to starting this class\n
URL:http://bsbells.com/event/kettlebell-class-19-2017-10-02/
LOCATION:511 E Main Street\, Campbellsport\, WI\, 53010\, United States
END:VEVENT
BEGIN:VEVENT
DTSTART;TZID=UTC+0:20171002T160000
DTEND;TZID=UTC+0:20171002T170000
DTSTAMP:20260424T172729
CREATED:20151222T193405Z
LAST-MODIFIED:20151222T193405Z
UID:11861-1506960000-1506963600@bsbells.com
SUMMARY:Kettlebell Class
DESCRIPTION:
URL:http://bsbells.com/event/kettlebell-class-5-2017-10-02/
LOCATION:511 E Main Street\, Campbellsport\, WI\, 53010\, United States
END:VEVENT
END:VCALENDAR