BEGIN:VCALENDAR
VERSION:2.0
PRODID:-//B&#039;s Bells &amp; Bootcamps - ECPv4.4.4//NONSGML v1.0//EN
CALSCALE:GREGORIAN
METHOD:PUBLISH
X-WR-CALNAME:B&#039;s Bells &amp; Bootcamps
X-ORIGINAL-URL:http://bsbells.com
X-WR-CALDESC:Events for B&#039;s Bells &amp; Bootcamps
BEGIN:VEVENT
DTSTART;TZID=UTC+0:20170919T060000
DTEND;TZID=UTC+0:20170919T070000
DTSTAMP:20260424T191301
CREATED:20151222T193714Z
LAST-MODIFIED:20151222T193714Z
UID:11782-1505800800-1505804400@bsbells.com
SUMMARY:Kettlebell Class
DESCRIPTION:
URL:http://bsbells.com/event/kettlebell-class-7-2017-09-19/
LOCATION:511 E Main Street\, Campbellsport\, WI\, 53010\, United States
END:VEVENT
BEGIN:VEVENT
DTSTART;TZID=UTC+0:20170919T060000
DTEND;TZID=UTC+0:20170919T070000
DTSTAMP:20260424T191301
CREATED:20151222T193921Z
LAST-MODIFIED:20151222T193921Z
UID:11533-1505800800-1505804400@bsbells.com
SUMMARY:Kettlebell Class
DESCRIPTION:
URL:http://bsbells.com/event/kettlebell-class-10-2017-09-19/
LOCATION:511 E Main Street\, Campbellsport\, WI\, 53010\, United States
END:VEVENT
BEGIN:VEVENT
DTSTART;TZID=UTC+0:20170919T070000
DTEND;TZID=UTC+0:20170919T080000
DTSTAMP:20260424T191301
CREATED:20151222T193803Z
LAST-MODIFIED:20151222T193803Z
UID:11699-1505804400-1505808000@bsbells.com
SUMMARY:Kettlebell Class
DESCRIPTION:
URL:http://bsbells.com/event/kettlebell-class-8-2017-09-19/
LOCATION:511 E Main Street\, Campbellsport\, WI\, 53010\, United States
END:VEVENT
BEGIN:VEVENT
DTSTART;TZID=UTC+0:20170919T160000
DTEND;TZID=UTC+0:20170919T170000
DTSTAMP:20260424T191301
CREATED:20151222T194120Z
LAST-MODIFIED:20151222T194120Z
UID:11449-1505836800-1505840400@bsbells.com
SUMMARY:Kettlebell Class
DESCRIPTION:
URL:http://bsbells.com/event/kettlebell-class-12-2017-09-19/
LOCATION:511 E Main Street\, Campbellsport\, WI\, 53010\, United States
END:VEVENT
BEGIN:VEVENT
DTSTART;TZID=UTC+0:20170919T170000
DTEND;TZID=UTC+0:20170919T180000
DTSTAMP:20260424T191301
CREATED:20151222T193537Z
LAST-MODIFIED:20151222T193537Z
UID:10192-1505840400-1505844000@bsbells.com
SUMMARY:Kettlebell Class
DESCRIPTION:
URL:http://bsbells.com/event/kettlebell-class-6-2017-09-19/
LOCATION:511 E Main Street\, Campbellsport\, WI\, 53010\, United States
END:VEVENT
END:VCALENDAR