BEGIN:VCALENDAR
VERSION:2.0
PRODID:-//B&#039;s Bells &amp; Bootcamps - ECPv4.4.4//NONSGML v1.0//EN
CALSCALE:GREGORIAN
METHOD:PUBLISH
X-WR-CALNAME:B&#039;s Bells &amp; Bootcamps
X-ORIGINAL-URL:http://bsbells.com
X-WR-CALDESC:Events for B&#039;s Bells &amp; Bootcamps
BEGIN:VEVENT
DTSTART;TZID=UTC+0:20170822T060000
DTEND;TZID=UTC+0:20170822T070000
DTSTAMP:20260424T204249
CREATED:20151222T193714Z
LAST-MODIFIED:20151222T193714Z
UID:11778-1503381600-1503385200@bsbells.com
SUMMARY:Kettlebell Class
DESCRIPTION:
URL:http://bsbells.com/event/kettlebell-class-7-2017-08-22/
LOCATION:511 E Main Street\, Campbellsport\, WI\, 53010\, United States
END:VEVENT
BEGIN:VEVENT
DTSTART;TZID=UTC+0:20170822T060000
DTEND;TZID=UTC+0:20170822T070000
DTSTAMP:20260424T204249
CREATED:20151222T193921Z
LAST-MODIFIED:20151222T193921Z
UID:11529-1503381600-1503385200@bsbells.com
SUMMARY:Kettlebell Class
DESCRIPTION:
URL:http://bsbells.com/event/kettlebell-class-10-2017-08-22/
LOCATION:511 E Main Street\, Campbellsport\, WI\, 53010\, United States
END:VEVENT
BEGIN:VEVENT
DTSTART;TZID=UTC+0:20170822T070000
DTEND;TZID=UTC+0:20170822T080000
DTSTAMP:20260424T204249
CREATED:20151222T193803Z
LAST-MODIFIED:20151222T193803Z
UID:11695-1503385200-1503388800@bsbells.com
SUMMARY:Kettlebell Class
DESCRIPTION:
URL:http://bsbells.com/event/kettlebell-class-8-2017-08-22/
LOCATION:511 E Main Street\, Campbellsport\, WI\, 53010\, United States
END:VEVENT
BEGIN:VEVENT
DTSTART;TZID=UTC+0:20170822T160000
DTEND;TZID=UTC+0:20170822T170000
DTSTAMP:20260424T204249
CREATED:20151222T194120Z
LAST-MODIFIED:20151222T194120Z
UID:11445-1503417600-1503421200@bsbells.com
SUMMARY:Kettlebell Class
DESCRIPTION:
URL:http://bsbells.com/event/kettlebell-class-12-2017-08-22/
LOCATION:511 E Main Street\, Campbellsport\, WI\, 53010\, United States
END:VEVENT
BEGIN:VEVENT
DTSTART;TZID=UTC+0:20170822T170000
DTEND;TZID=UTC+0:20170822T180000
DTSTAMP:20260424T204249
CREATED:20151222T193537Z
LAST-MODIFIED:20151222T193537Z
UID:10188-1503421200-1503424800@bsbells.com
SUMMARY:Kettlebell Class
DESCRIPTION:
URL:http://bsbells.com/event/kettlebell-class-6-2017-08-22/
LOCATION:511 E Main Street\, Campbellsport\, WI\, 53010\, United States
END:VEVENT
END:VCALENDAR