BEGIN:VCALENDAR
VERSION:2.0
PRODID:-//B&#039;s Bells &amp; Bootcamps - ECPv4.4.4//NONSGML v1.0//EN
CALSCALE:GREGORIAN
METHOD:PUBLISH
X-WR-CALNAME:B&#039;s Bells &amp; Bootcamps
X-ORIGINAL-URL:http://bsbells.com
X-WR-CALDESC:Events for B&#039;s Bells &amp; Bootcamps
BEGIN:VEVENT
DTSTART;TZID=UTC+0:20170810T070000
DTEND;TZID=UTC+0:20170810T080000
DTSTAMP:20260424T204214
CREATED:20151222T194546Z
LAST-MODIFIED:20151222T194546Z
UID:11120-1502348400-1502352000@bsbells.com
SUMMARY:Kettlebell Class
DESCRIPTION:
URL:http://bsbells.com/event/kettlebell-class-15-2017-08-10/
LOCATION:511 E Main Street\, Campbellsport\, WI\, 53010\, United States
END:VEVENT
BEGIN:VEVENT
DTSTART;TZID=UTC+0:20170810T160000
DTEND;TZID=UTC+0:20170810T170000
DTSTAMP:20260424T204214
CREATED:20151222T194810Z
LAST-MODIFIED:20160128T084010Z
UID:11067-1502380800-1502384400@bsbells.com
SUMMARY:Kettlebell Class
DESCRIPTION:
URL:http://bsbells.com/event/kettlebell-class-16-2016-01-28-2017-08-10/
LOCATION:511 E Main Street\, Campbellsport\, WI\, 53010\, United States
END:VEVENT
BEGIN:VEVENT
DTSTART;TZID=UTC+0:20170810T170000
DTEND;TZID=UTC+0:20170810T180000
DTSTAMP:20260424T204214
CREATED:20151222T194847Z
LAST-MODIFIED:20151222T194847Z
UID:10554-1502384400-1502388000@bsbells.com
SUMMARY:Kettlebell Class
DESCRIPTION:
URL:http://bsbells.com/event/kettlebell-class-17-2017-08-10/
LOCATION:511 E Main Street\, Campbellsport\, WI\, 53010\, United States
END:VEVENT
END:VCALENDAR