BEGIN:VCALENDAR
VERSION:2.0
PRODID:-//B&#039;s Bells &amp; Bootcamps - ECPv4.4.4//NONSGML v1.0//EN
CALSCALE:GREGORIAN
METHOD:PUBLISH
X-WR-CALNAME:B&#039;s Bells &amp; Bootcamps
X-ORIGINAL-URL:http://bsbells.com
X-WR-CALDESC:Events for B&#039;s Bells &amp; Bootcamps
BEGIN:VEVENT
DTSTART;TZID=UTC+0:20170808T060000
DTEND;TZID=UTC+0:20170808T070000
DTSTAMP:20260424T204129
CREATED:20151222T193714Z
LAST-MODIFIED:20151222T193714Z
UID:11776-1502172000-1502175600@bsbells.com
SUMMARY:Kettlebell Class
DESCRIPTION:
URL:http://bsbells.com/event/kettlebell-class-7-2017-08-08/
LOCATION:511 E Main Street\, Campbellsport\, WI\, 53010\, United States
END:VEVENT
BEGIN:VEVENT
DTSTART;TZID=UTC+0:20170808T060000
DTEND;TZID=UTC+0:20170808T070000
DTSTAMP:20260424T204129
CREATED:20151222T193921Z
LAST-MODIFIED:20151222T193921Z
UID:11527-1502172000-1502175600@bsbells.com
SUMMARY:Kettlebell Class
DESCRIPTION:
URL:http://bsbells.com/event/kettlebell-class-10-2017-08-08/
LOCATION:511 E Main Street\, Campbellsport\, WI\, 53010\, United States
END:VEVENT
BEGIN:VEVENT
DTSTART;TZID=UTC+0:20170808T070000
DTEND;TZID=UTC+0:20170808T080000
DTSTAMP:20260424T204129
CREATED:20151222T193803Z
LAST-MODIFIED:20151222T193803Z
UID:11693-1502175600-1502179200@bsbells.com
SUMMARY:Kettlebell Class
DESCRIPTION:
URL:http://bsbells.com/event/kettlebell-class-8-2017-08-08/
LOCATION:511 E Main Street\, Campbellsport\, WI\, 53010\, United States
END:VEVENT
BEGIN:VEVENT
DTSTART;TZID=UTC+0:20170808T160000
DTEND;TZID=UTC+0:20170808T170000
DTSTAMP:20260424T204129
CREATED:20151222T194120Z
LAST-MODIFIED:20151222T194120Z
UID:11443-1502208000-1502211600@bsbells.com
SUMMARY:Kettlebell Class
DESCRIPTION:
URL:http://bsbells.com/event/kettlebell-class-12-2017-08-08/
LOCATION:511 E Main Street\, Campbellsport\, WI\, 53010\, United States
END:VEVENT
BEGIN:VEVENT
DTSTART;TZID=UTC+0:20170808T170000
DTEND;TZID=UTC+0:20170808T180000
DTSTAMP:20260424T204129
CREATED:20151222T193537Z
LAST-MODIFIED:20151222T193537Z
UID:10186-1502211600-1502215200@bsbells.com
SUMMARY:Kettlebell Class
DESCRIPTION:
URL:http://bsbells.com/event/kettlebell-class-6-2017-08-08/
LOCATION:511 E Main Street\, Campbellsport\, WI\, 53010\, United States
END:VEVENT
END:VCALENDAR