BEGIN:VCALENDAR
VERSION:2.0
PRODID:-//B&#039;s Bells &amp; Bootcamps - ECPv4.4.4//NONSGML v1.0//EN
CALSCALE:GREGORIAN
METHOD:PUBLISH
X-WR-CALNAME:B&#039;s Bells &amp; Bootcamps
X-ORIGINAL-URL:http://bsbells.com
X-WR-CALDESC:Events for B&#039;s Bells &amp; Bootcamps
BEGIN:VEVENT
DTSTART;TZID=UTC+0:20170801T060000
DTEND;TZID=UTC+0:20170801T070000
DTSTAMP:20260424T204128
CREATED:20151222T193714Z
LAST-MODIFIED:20151222T193714Z
UID:11775-1501567200-1501570800@bsbells.com
SUMMARY:Kettlebell Class
DESCRIPTION:
URL:http://bsbells.com/event/kettlebell-class-7-2017-08-01/
LOCATION:511 E Main Street\, Campbellsport\, WI\, 53010\, United States
END:VEVENT
BEGIN:VEVENT
DTSTART;TZID=UTC+0:20170801T060000
DTEND;TZID=UTC+0:20170801T070000
DTSTAMP:20260424T204128
CREATED:20151222T193921Z
LAST-MODIFIED:20151222T193921Z
UID:11526-1501567200-1501570800@bsbells.com
SUMMARY:Kettlebell Class
DESCRIPTION:
URL:http://bsbells.com/event/kettlebell-class-10-2017-08-01/
LOCATION:511 E Main Street\, Campbellsport\, WI\, 53010\, United States
END:VEVENT
BEGIN:VEVENT
DTSTART;TZID=UTC+0:20170801T070000
DTEND;TZID=UTC+0:20170801T080000
DTSTAMP:20260424T204128
CREATED:20151222T193803Z
LAST-MODIFIED:20151222T193803Z
UID:11692-1501570800-1501574400@bsbells.com
SUMMARY:Kettlebell Class
DESCRIPTION:
URL:http://bsbells.com/event/kettlebell-class-8-2017-08-01/
LOCATION:511 E Main Street\, Campbellsport\, WI\, 53010\, United States
END:VEVENT
BEGIN:VEVENT
DTSTART;TZID=UTC+0:20170801T160000
DTEND;TZID=UTC+0:20170801T170000
DTSTAMP:20260424T204128
CREATED:20151222T194120Z
LAST-MODIFIED:20151222T194120Z
UID:11442-1501603200-1501606800@bsbells.com
SUMMARY:Kettlebell Class
DESCRIPTION:
URL:http://bsbells.com/event/kettlebell-class-12-2017-08-01/
LOCATION:511 E Main Street\, Campbellsport\, WI\, 53010\, United States
END:VEVENT
BEGIN:VEVENT
DTSTART;TZID=UTC+0:20170801T170000
DTEND;TZID=UTC+0:20170801T180000
DTSTAMP:20260424T204128
CREATED:20151222T193537Z
LAST-MODIFIED:20151222T193537Z
UID:10185-1501606800-1501610400@bsbells.com
SUMMARY:Kettlebell Class
DESCRIPTION:
URL:http://bsbells.com/event/kettlebell-class-6-2017-08-01/
LOCATION:511 E Main Street\, Campbellsport\, WI\, 53010\, United States
END:VEVENT
END:VCALENDAR