BEGIN:VCALENDAR
VERSION:2.0
PRODID:-//B&#039;s Bells &amp; Bootcamps - ECPv4.4.4//NONSGML v1.0//EN
CALSCALE:GREGORIAN
METHOD:PUBLISH
X-WR-CALNAME:B&#039;s Bells &amp; Bootcamps
X-ORIGINAL-URL:http://bsbells.com
X-WR-CALDESC:Events for B&#039;s Bells &amp; Bootcamps
BEGIN:VEVENT
DTSTART;TZID=UTC+0:20170724T050000
DTEND;TZID=UTC+0:20170724T060000
DTSTAMP:20260424T223738
CREATED:20151222T192826Z
LAST-MODIFIED:20151222T192826Z
UID:9839-1500872400-1500876000@bsbells.com
SUMMARY:Kettlebell Class
DESCRIPTION:
URL:http://bsbells.com/event/kettlebell-class-2-2017-07-24/
LOCATION:511 E Main Street\, Campbellsport\, WI\, 53010\, United States
END:VEVENT
BEGIN:VEVENT
DTSTART;TZID=UTC+0:20170724T090000
DTEND;TZID=UTC+0:20170724T100000
DTSTAMP:20260424T223738
CREATED:20151222T193245Z
LAST-MODIFIED:20151222T193245Z
UID:11937-1500886800-1500890400@bsbells.com
SUMMARY:Kettlebell Class
DESCRIPTION:
URL:http://bsbells.com/event/kettlebell-class-4-2017-07-24/
LOCATION:511 E Main Street\, Campbellsport\, WI\, 53010\, United States
END:VEVENT
BEGIN:VEVENT
DTSTART;TZID=UTC+0:20170724T090000
DTEND;TZID=UTC+0:20170724T100000
DTSTAMP:20260424T223738
CREATED:20151222T195029Z
LAST-MODIFIED:20160904T003900Z
UID:13365-1500886800-1500890400@bsbells.com
SUMMARY:Kettlebell Class
DESCRIPTION:Kettlebell Class\n*Must take Essentials Class prior to starting this class\n
URL:http://bsbells.com/event/kettlebell-class-19-2017-07-24/
LOCATION:511 E Main Street\, Campbellsport\, WI\, 53010\, United States
END:VEVENT
BEGIN:VEVENT
DTSTART;TZID=UTC+0:20170724T160000
DTEND;TZID=UTC+0:20170724T170000
DTSTAMP:20260424T223738
CREATED:20151222T193405Z
LAST-MODIFIED:20151222T193405Z
UID:11851-1500912000-1500915600@bsbells.com
SUMMARY:Kettlebell Class
DESCRIPTION:
URL:http://bsbells.com/event/kettlebell-class-5-2017-07-24/
LOCATION:511 E Main Street\, Campbellsport\, WI\, 53010\, United States
END:VEVENT
END:VCALENDAR