BEGIN:VCALENDAR
VERSION:2.0
PRODID:-//B&#039;s Bells &amp; Bootcamps - ECPv4.4.4//NONSGML v1.0//EN
CALSCALE:GREGORIAN
METHOD:PUBLISH
X-WR-CALNAME:B&#039;s Bells &amp; Bootcamps
X-ORIGINAL-URL:http://bsbells.com
X-WR-CALDESC:Events for B&#039;s Bells &amp; Bootcamps
BEGIN:VEVENT
DTSTART;TZID=UTC+0:20170621T050000
DTEND;TZID=UTC+0:20170621T060000
DTSTAMP:20260425T003553
CREATED:20151222T193134Z
LAST-MODIFIED:20151222T193134Z
UID:12035-1498021200-1498024800@bsbells.com
SUMMARY:Kettlebell Class
DESCRIPTION:
URL:http://bsbells.com/event/kettlebell-class-3-2017-06-21/
LOCATION:511 E Main Street\, Campbellsport\, WI\, 53010\, United States
END:VEVENT
BEGIN:VEVENT
DTSTART;TZID=UTC+0:20170621T050000
DTEND;TZID=UTC+0:20170621T060000
DTSTAMP:20260425T003553
CREATED:20151222T193846Z
LAST-MODIFIED:20151222T193846Z
UID:11603-1498021200-1498024800@bsbells.com
SUMMARY:Kettlebell Class
DESCRIPTION:
URL:http://bsbells.com/event/kettlebell-class-9-2017-06-21/
LOCATION:511 E Main Street\, Campbellsport\, WI\, 53010\, United States
END:VEVENT
BEGIN:VEVENT
DTSTART;TZID=UTC+0:20170621T060000
DTEND;TZID=UTC+0:20170621T070000
DTSTAMP:20260425T003553
CREATED:20151222T194456Z
LAST-MODIFIED:20151222T194456Z
UID:11196-1498024800-1498028400@bsbells.com
SUMMARY:Kettlebell Class
DESCRIPTION:
URL:http://bsbells.com/event/kettlebell-class-14-2017-06-21/
LOCATION:511 E Main Street\, Campbellsport\, WI\, 53010\, United States
END:VEVENT
BEGIN:VEVENT
DTSTART;TZID=UTC+0:20170621T160000
DTEND;TZID=UTC+0:20170621T170000
DTSTAMP:20260425T003553
CREATED:20151222T194200Z
LAST-MODIFIED:20151222T194200Z
UID:11362-1498060800-1498064400@bsbells.com
SUMMARY:
DESCRIPTION:[text_divider type="single"]\nText Divider\n[/text_divider]
URL:http://bsbells.com/event/10298-2017-06-21/
LOCATION:511 E Main Street\, Campbellsport\, WI\, 53010\, United States
END:VEVENT
BEGIN:VEVENT
DTSTART;TZID=UTC+0:20170621T170000
DTEND;TZID=UTC+0:20170621T180000
DTSTAMP:20260425T003553
CREATED:20151222T194409Z
LAST-MODIFIED:20151222T194409Z
UID:11279-1498064400-1498068000@bsbells.com
SUMMARY:Kettlebell Class
DESCRIPTION:
URL:http://bsbells.com/event/kettlebell-class-13-2017-06-21/
LOCATION:511 E Main Street\, Campbellsport\, WI\, 53010\, United States
END:VEVENT
END:VCALENDAR