BEGIN:VCALENDAR
VERSION:2.0
PRODID:-//B&#039;s Bells &amp; Bootcamps - ECPv4.4.4//NONSGML v1.0//EN
CALSCALE:GREGORIAN
METHOD:PUBLISH
X-WR-CALNAME:B&#039;s Bells &amp; Bootcamps
X-ORIGINAL-URL:http://bsbells.com
X-WR-CALDESC:Events for B&#039;s Bells &amp; Bootcamps
BEGIN:VEVENT
DTSTART;TZID=UTC+0:20170619T050000
DTEND;TZID=UTC+0:20170619T060000
DTSTAMP:20260425T003700
CREATED:20151222T192826Z
LAST-MODIFIED:20151222T192826Z
UID:9834-1497848400-1497852000@bsbells.com
SUMMARY:Kettlebell Class
DESCRIPTION:
URL:http://bsbells.com/event/kettlebell-class-2-2017-06-19/
LOCATION:511 E Main Street\, Campbellsport\, WI\, 53010\, United States
END:VEVENT
BEGIN:VEVENT
DTSTART;TZID=UTC+0:20170619T090000
DTEND;TZID=UTC+0:20170619T100000
DTSTAMP:20260425T003700
CREATED:20151222T193245Z
LAST-MODIFIED:20151222T193245Z
UID:11932-1497862800-1497866400@bsbells.com
SUMMARY:Kettlebell Class
DESCRIPTION:
URL:http://bsbells.com/event/kettlebell-class-4-2017-06-19/
LOCATION:511 E Main Street\, Campbellsport\, WI\, 53010\, United States
END:VEVENT
BEGIN:VEVENT
DTSTART;TZID=UTC+0:20170619T090000
DTEND;TZID=UTC+0:20170619T100000
DTSTAMP:20260425T003700
CREATED:20151222T195029Z
LAST-MODIFIED:20160904T003900Z
UID:13360-1497862800-1497866400@bsbells.com
SUMMARY:Kettlebell Class
DESCRIPTION:Kettlebell Class\n*Must take Essentials Class prior to starting this class\n
URL:http://bsbells.com/event/kettlebell-class-19-2017-06-19/
LOCATION:511 E Main Street\, Campbellsport\, WI\, 53010\, United States
END:VEVENT
BEGIN:VEVENT
DTSTART;TZID=UTC+0:20170619T160000
DTEND;TZID=UTC+0:20170619T170000
DTSTAMP:20260425T003700
CREATED:20151222T193405Z
LAST-MODIFIED:20151222T193405Z
UID:11846-1497888000-1497891600@bsbells.com
SUMMARY:Kettlebell Class
DESCRIPTION:
URL:http://bsbells.com/event/kettlebell-class-5-2017-06-19/
LOCATION:511 E Main Street\, Campbellsport\, WI\, 53010\, United States
END:VEVENT
END:VCALENDAR