BEGIN:VCALENDAR
VERSION:2.0
PRODID:-//B&#039;s Bells &amp; Bootcamps - ECPv4.4.4//NONSGML v1.0//EN
CALSCALE:GREGORIAN
METHOD:PUBLISH
X-WR-CALNAME:B&#039;s Bells &amp; Bootcamps
X-ORIGINAL-URL:http://bsbells.com
X-WR-CALDESC:Events for B&#039;s Bells &amp; Bootcamps
BEGIN:VEVENT
DTSTART;TZID=UTC+0:20170613T060000
DTEND;TZID=UTC+0:20170613T070000
DTSTAMP:20260425T003725
CREATED:20151222T193714Z
LAST-MODIFIED:20151222T193714Z
UID:11768-1497333600-1497337200@bsbells.com
SUMMARY:Kettlebell Class
DESCRIPTION:
URL:http://bsbells.com/event/kettlebell-class-7-2017-06-13/
LOCATION:511 E Main Street\, Campbellsport\, WI\, 53010\, United States
END:VEVENT
BEGIN:VEVENT
DTSTART;TZID=UTC+0:20170613T060000
DTEND;TZID=UTC+0:20170613T070000
DTSTAMP:20260425T003725
CREATED:20151222T193921Z
LAST-MODIFIED:20151222T193921Z
UID:11519-1497333600-1497337200@bsbells.com
SUMMARY:Kettlebell Class
DESCRIPTION:
URL:http://bsbells.com/event/kettlebell-class-10-2017-06-13/
LOCATION:511 E Main Street\, Campbellsport\, WI\, 53010\, United States
END:VEVENT
BEGIN:VEVENT
DTSTART;TZID=UTC+0:20170613T070000
DTEND;TZID=UTC+0:20170613T080000
DTSTAMP:20260425T003725
CREATED:20151222T193803Z
LAST-MODIFIED:20151222T193803Z
UID:11685-1497337200-1497340800@bsbells.com
SUMMARY:Kettlebell Class
DESCRIPTION:
URL:http://bsbells.com/event/kettlebell-class-8-2017-06-13/
LOCATION:511 E Main Street\, Campbellsport\, WI\, 53010\, United States
END:VEVENT
BEGIN:VEVENT
DTSTART;TZID=UTC+0:20170613T160000
DTEND;TZID=UTC+0:20170613T170000
DTSTAMP:20260425T003725
CREATED:20151222T194120Z
LAST-MODIFIED:20151222T194120Z
UID:11435-1497369600-1497373200@bsbells.com
SUMMARY:Kettlebell Class
DESCRIPTION:
URL:http://bsbells.com/event/kettlebell-class-12-2017-06-13/
LOCATION:511 E Main Street\, Campbellsport\, WI\, 53010\, United States
END:VEVENT
BEGIN:VEVENT
DTSTART;TZID=UTC+0:20170613T170000
DTEND;TZID=UTC+0:20170613T180000
DTSTAMP:20260425T003725
CREATED:20151222T193537Z
LAST-MODIFIED:20151222T193537Z
UID:10178-1497373200-1497376800@bsbells.com
SUMMARY:Kettlebell Class
DESCRIPTION:
URL:http://bsbells.com/event/kettlebell-class-6-2017-06-13/
LOCATION:511 E Main Street\, Campbellsport\, WI\, 53010\, United States
END:VEVENT
END:VCALENDAR