BEGIN:VCALENDAR
VERSION:2.0
PRODID:-//B&#039;s Bells &amp; Bootcamps - ECPv4.4.4//NONSGML v1.0//EN
CALSCALE:GREGORIAN
METHOD:PUBLISH
X-WR-CALNAME:B&#039;s Bells &amp; Bootcamps
X-ORIGINAL-URL:http://bsbells.com
X-WR-CALDESC:Events for B&#039;s Bells &amp; Bootcamps
BEGIN:VEVENT
DTSTART;TZID=UTC+0:20170606T060000
DTEND;TZID=UTC+0:20170606T070000
DTSTAMP:20260425T003630
CREATED:20151222T193714Z
LAST-MODIFIED:20151222T193714Z
UID:11767-1496728800-1496732400@bsbells.com
SUMMARY:Kettlebell Class
DESCRIPTION:
URL:http://bsbells.com/event/kettlebell-class-7-2017-06-06/
LOCATION:511 E Main Street\, Campbellsport\, WI\, 53010\, United States
END:VEVENT
BEGIN:VEVENT
DTSTART;TZID=UTC+0:20170606T060000
DTEND;TZID=UTC+0:20170606T070000
DTSTAMP:20260425T003630
CREATED:20151222T193921Z
LAST-MODIFIED:20151222T193921Z
UID:11518-1496728800-1496732400@bsbells.com
SUMMARY:Kettlebell Class
DESCRIPTION:
URL:http://bsbells.com/event/kettlebell-class-10-2017-06-06/
LOCATION:511 E Main Street\, Campbellsport\, WI\, 53010\, United States
END:VEVENT
BEGIN:VEVENT
DTSTART;TZID=UTC+0:20170606T070000
DTEND;TZID=UTC+0:20170606T080000
DTSTAMP:20260425T003630
CREATED:20151222T193803Z
LAST-MODIFIED:20151222T193803Z
UID:11684-1496732400-1496736000@bsbells.com
SUMMARY:Kettlebell Class
DESCRIPTION:
URL:http://bsbells.com/event/kettlebell-class-8-2017-06-06/
LOCATION:511 E Main Street\, Campbellsport\, WI\, 53010\, United States
END:VEVENT
BEGIN:VEVENT
DTSTART;TZID=UTC+0:20170606T160000
DTEND;TZID=UTC+0:20170606T170000
DTSTAMP:20260425T003630
CREATED:20151222T194120Z
LAST-MODIFIED:20151222T194120Z
UID:11434-1496764800-1496768400@bsbells.com
SUMMARY:Kettlebell Class
DESCRIPTION:
URL:http://bsbells.com/event/kettlebell-class-12-2017-06-06/
LOCATION:511 E Main Street\, Campbellsport\, WI\, 53010\, United States
END:VEVENT
BEGIN:VEVENT
DTSTART;TZID=UTC+0:20170606T170000
DTEND;TZID=UTC+0:20170606T180000
DTSTAMP:20260425T003630
CREATED:20151222T193537Z
LAST-MODIFIED:20151222T193537Z
UID:10177-1496768400-1496772000@bsbells.com
SUMMARY:Kettlebell Class
DESCRIPTION:
URL:http://bsbells.com/event/kettlebell-class-6-2017-06-06/
LOCATION:511 E Main Street\, Campbellsport\, WI\, 53010\, United States
END:VEVENT
END:VCALENDAR