BEGIN:VCALENDAR
VERSION:2.0
PRODID:-//B&#039;s Bells &amp; Bootcamps - ECPv4.4.4//NONSGML v1.0//EN
CALSCALE:GREGORIAN
METHOD:PUBLISH
X-WR-CALNAME:B&#039;s Bells &amp; Bootcamps
X-ORIGINAL-URL:http://bsbells.com
X-WR-CALDESC:Events for B&#039;s Bells &amp; Bootcamps
BEGIN:VEVENT
DTSTART;TZID=UTC+0:20170605T050000
DTEND;TZID=UTC+0:20170605T060000
DTSTAMP:20260425T003704
CREATED:20151222T192826Z
LAST-MODIFIED:20151222T192826Z
UID:9832-1496638800-1496642400@bsbells.com
SUMMARY:Kettlebell Class
DESCRIPTION:
URL:http://bsbells.com/event/kettlebell-class-2-2017-06-05/
LOCATION:511 E Main Street\, Campbellsport\, WI\, 53010\, United States
END:VEVENT
BEGIN:VEVENT
DTSTART;TZID=UTC+0:20170605T090000
DTEND;TZID=UTC+0:20170605T100000
DTSTAMP:20260425T003704
CREATED:20151222T193245Z
LAST-MODIFIED:20151222T193245Z
UID:11930-1496653200-1496656800@bsbells.com
SUMMARY:Kettlebell Class
DESCRIPTION:
URL:http://bsbells.com/event/kettlebell-class-4-2017-06-05/
LOCATION:511 E Main Street\, Campbellsport\, WI\, 53010\, United States
END:VEVENT
BEGIN:VEVENT
DTSTART;TZID=UTC+0:20170605T090000
DTEND;TZID=UTC+0:20170605T100000
DTSTAMP:20260425T003704
CREATED:20151222T195029Z
LAST-MODIFIED:20160904T003859Z
UID:13358-1496653200-1496656800@bsbells.com
SUMMARY:Kettlebell Class
DESCRIPTION:Kettlebell Class\n*Must take Essentials Class prior to starting this class\n
URL:http://bsbells.com/event/kettlebell-class-19-2017-06-05/
LOCATION:511 E Main Street\, Campbellsport\, WI\, 53010\, United States
END:VEVENT
BEGIN:VEVENT
DTSTART;TZID=UTC+0:20170605T160000
DTEND;TZID=UTC+0:20170605T170000
DTSTAMP:20260425T003704
CREATED:20151222T193405Z
LAST-MODIFIED:20151222T193405Z
UID:11844-1496678400-1496682000@bsbells.com
SUMMARY:Kettlebell Class
DESCRIPTION:
URL:http://bsbells.com/event/kettlebell-class-5-2017-06-05/
LOCATION:511 E Main Street\, Campbellsport\, WI\, 53010\, United States
END:VEVENT
END:VCALENDAR