BEGIN:VCALENDAR
VERSION:2.0
PRODID:-//B&#039;s Bells &amp; Bootcamps - ECPv4.4.4//NONSGML v1.0//EN
CALSCALE:GREGORIAN
METHOD:PUBLISH
X-WR-CALNAME:B&#039;s Bells &amp; Bootcamps
X-ORIGINAL-URL:http://bsbells.com
X-WR-CALDESC:Events for B&#039;s Bells &amp; Bootcamps
BEGIN:VEVENT
DTSTART;TZID=UTC+0:20170518T070000
DTEND;TZID=UTC+0:20170518T080000
DTSTAMP:20260425T023702
CREATED:20151222T194546Z
LAST-MODIFIED:20151222T194546Z
UID:11108-1495090800-1495094400@bsbells.com
SUMMARY:Kettlebell Class
DESCRIPTION:
URL:http://bsbells.com/event/kettlebell-class-15-2017-05-18/
LOCATION:511 E Main Street\, Campbellsport\, WI\, 53010\, United States
END:VEVENT
BEGIN:VEVENT
DTSTART;TZID=UTC+0:20170518T160000
DTEND;TZID=UTC+0:20170518T170000
DTSTAMP:20260425T023702
CREATED:20151222T194810Z
LAST-MODIFIED:20160128T084006Z
UID:11055-1495123200-1495126800@bsbells.com
SUMMARY:Kettlebell Class
DESCRIPTION:
URL:http://bsbells.com/event/kettlebell-class-16-2016-01-28-2017-05-18/
LOCATION:511 E Main Street\, Campbellsport\, WI\, 53010\, United States
END:VEVENT
BEGIN:VEVENT
DTSTART;TZID=UTC+0:20170518T170000
DTEND;TZID=UTC+0:20170518T180000
DTSTAMP:20260425T023702
CREATED:20151222T194847Z
LAST-MODIFIED:20151222T194847Z
UID:10542-1495126800-1495130400@bsbells.com
SUMMARY:Kettlebell Class
DESCRIPTION:
URL:http://bsbells.com/event/kettlebell-class-17-2017-05-18/
LOCATION:511 E Main Street\, Campbellsport\, WI\, 53010\, United States
END:VEVENT
END:VCALENDAR