BEGIN:VCALENDAR
VERSION:2.0
PRODID:-//B&#039;s Bells &amp; Bootcamps - ECPv4.4.4//NONSGML v1.0//EN
CALSCALE:GREGORIAN
METHOD:PUBLISH
X-WR-CALNAME:B&#039;s Bells &amp; Bootcamps
X-ORIGINAL-URL:http://bsbells.com
X-WR-CALDESC:Events for B&#039;s Bells &amp; Bootcamps
BEGIN:VEVENT
DTSTART;TZID=UTC+0:20170118T050000
DTEND;TZID=UTC+0:20170118T060000
DTSTAMP:20260426T022717
CREATED:20151222T193134Z
LAST-MODIFIED:20151222T193134Z
UID:12013-1484715600-1484719200@bsbells.com
SUMMARY:Kettlebell Class
DESCRIPTION:
URL:http://bsbells.com/event/kettlebell-class-3-2017-01-18/
LOCATION:511 E Main Street\, Campbellsport\, WI\, 53010\, United States
END:VEVENT
BEGIN:VEVENT
DTSTART;TZID=UTC+0:20170118T050000
DTEND;TZID=UTC+0:20170118T060000
DTSTAMP:20260426T022717
CREATED:20151222T193846Z
LAST-MODIFIED:20151222T193846Z
UID:11581-1484715600-1484719200@bsbells.com
SUMMARY:Kettlebell Class
DESCRIPTION:
URL:http://bsbells.com/event/kettlebell-class-9-2017-01-18/
LOCATION:511 E Main Street\, Campbellsport\, WI\, 53010\, United States
END:VEVENT
BEGIN:VEVENT
DTSTART;TZID=UTC+0:20170118T060000
DTEND;TZID=UTC+0:20170118T070000
DTSTAMP:20260426T022717
CREATED:20151222T194456Z
LAST-MODIFIED:20151222T194456Z
UID:11174-1484719200-1484722800@bsbells.com
SUMMARY:Kettlebell Class
DESCRIPTION:
URL:http://bsbells.com/event/kettlebell-class-14-2017-01-18/
LOCATION:511 E Main Street\, Campbellsport\, WI\, 53010\, United States
END:VEVENT
BEGIN:VEVENT
DTSTART;TZID=UTC+0:20170118T160000
DTEND;TZID=UTC+0:20170118T170000
DTSTAMP:20260426T022717
CREATED:20151222T194200Z
LAST-MODIFIED:20151222T194200Z
UID:11340-1484755200-1484758800@bsbells.com
SUMMARY:
DESCRIPTION:[text_divider type="single"]\nText Divider\n[/text_divider]
URL:http://bsbells.com/event/10298-2017-01-18/
LOCATION:511 E Main Street\, Campbellsport\, WI\, 53010\, United States
END:VEVENT
BEGIN:VEVENT
DTSTART;TZID=UTC+0:20170118T170000
DTEND;TZID=UTC+0:20170118T180000
DTSTAMP:20260426T022717
CREATED:20151222T194409Z
LAST-MODIFIED:20151222T194409Z
UID:11257-1484758800-1484762400@bsbells.com
SUMMARY:Kettlebell Class
DESCRIPTION:
URL:http://bsbells.com/event/kettlebell-class-13-2017-01-18/
LOCATION:511 E Main Street\, Campbellsport\, WI\, 53010\, United States
END:VEVENT
END:VCALENDAR